Workbook

Sheet Sheet1
A1: องค์การบริหารส่วนตำบลควนสตอ
A2: รายงาน รับ - จ่ายเงิน
A3: ปีงบประมาณ 2560 ประจำเดือน ตุลาคม 2559
A4: จนถึงปัจจุบัน
A5: ประมาณการ | B5: เงินอุดหนุนระบุ | C5: รวม | D5: เกิดขึ้นริง | E5: รายการ | F5: รหัสบัญชี | G5: จำนวนเงินเดือนนี้
A6: (บาท) | B6: ระบวัตถุประสงค์/ | C6: (บาท) | D6: (บาท) | G6: ที่เกิดขึ้นจริง
B7: เฉพาะกิจ(บาท) | G7: (บาท)
D8: 23097922 | E8: ยอดยกมา | G8: 23097922
E9: รายรับ(หมายเหตุ)1
A10: 245120 | B10: 0 | C10: =SUM(A10:B10) -> 245120 | D10: =G10 -> 330 | E10: ภาษีอากร | F10: 411000 | G10: 330
A11: 404550 | B11: 0 | C11: =SUM(A11:B11) -> 404550 | D11: =G11 -> 10940 | E11: ค่าธรรมเนียม ค่าปรับและใบอนุญาต | F11: 412000 | G11: 10940
A12: 133000 | B12: 0 | C12: =SUM(A12:B12) -> 133000 | D12: =G12 -> 0 | E12: รายได้จากทรัพย์สิน | F12: 413000 | G12: 0
A13: 0 | B13: 0 | C13: =SUM(A13:B13) -> 0 | D13: =G13 -> 0 | E13: รายได้จากสาธารณูปโภคและการพาณิช | F13: 414000 | G13: 0
A14: 10000 | B14: 0 | C14: =SUM(A14:B14) -> 10000 | D14: =G14 -> 330 | E14: รายได้เบ็ดเตล็ด | F14: 415000 | G14: 330
A15: 1000 | B15: 0 | C15: =SUM(A15:B15) -> 1000 | D15: =G15 -> 0 | E15: รายได้จากทุน | F15: 416000 | G15: 0
A16: 16206330 | B16: 0 | C16: =SUM(A16:B16) -> 16206330 | D16: =G16 -> 12280.83 | E16: ภาษีจัดสรร | F16: 421000 | G16: 12280.83
A17: 30120000 | B17: 0 | C17: =SUM(A17:B17) -> 30120000 | D17: =G17 -> 10802052 | E17: เงินอุดหนุนทั่วไป | F17: 431000 | G17: =4449622+6352430 -> 10802052
D18: =G18 -> 24105 | E18: เงินมัดจำประกันสัญญา | G18: 24105
D19: =G19 -> 0 | E19: คาใช้จ่าย ภบท.5%
D20: =G20 -> 106.8 | E20: ส่วนลด ภบท.6% | G20: 106.8
D21: =G21 -> 1763.37 | E21: ภาษี หัก ณที่จ่าย | G21: 1763.37
D22: =G22 -> 0 | E22: ลูกหนี้-เงินทุนโครงการเศรษฐกิจชุมชน
D23: =G23 -> 1391.2 | E23: ลูกหนี้-ภาษีบำรุงท้องที่ | G23: 1391.2
D24: =G24 -> 0 | E24: เงินอุดหนุนจากรัฐบาลค้างรับ
D25: =G25 -> 0 | E25: เจ้าหนี้เงินสะสม
D26: =G26 -> 7304 | E26: เงินรับฝาก-ประกันสังคม | G26: 7304
D27: =G27 -> 260666.5 | E27: เงินรับฝาก-ค่าใช้จ่ายอื่น | G27: 260666.5
D28: =G28 -> 134400 | E28: ลูกหนี้เงินยืม | G28: 134400
A37: =SUM(A10:A36) -> 47120000 | B37: =SUM(B10:B36) -> 0 | C37: =SUM(C10:C36) -> 47120000 | D37: =SUM(D10:D36) -> 11255670 | E37: รวมรายรับ | G37: =SUM(G10:G36) -> 11255670
A74: จนถึงปัจจุบัน
A75: ประมาณการ | B75: เงินอุดหนุนระบุ | C75: รวม | D75: เกิดขึ้นริง | E75: รายการ | F75: รหัสบัญชี | G75: จำนวนเงินเดือนนี้
A76: (บาท) | B76: ระบวัตถุประสงค์/ | C76: (บาท) | D76: (บาท) | G76: ที่เกิดขึ้นจริง
B77: เฉพาะกิจ(บาท) | G77: (บาท)
E78: รายจ่าย
A79: 11062000 | C79: =SUM(A79:B79) -> 11062000 | D79: =G79 -> 906704 | E79: งบกลาง | F79: 511000 | G79: =772304+134400 -> 906704
A80: 2484720 | C80: =SUM(A80:B80) -> 2484720 | D80: =G80 -> 207060 | E80: เงินเดือน(ฝ่ายการเมือง) | F80: 521000 | G80: 207060
A81: 11385480 | C81: =SUM(A81:B81) -> 11385480 | D81: =G81 -> 832615 | E81: เงินเดือน(ฝ่ายประจำ) | F81: 522000 | G81: 832615 | I81: =538775-539575 -> -800
A82: 676800 | C82: =SUM(A82:B82) -> 676800 | D82: =G82 -> 25000 | E82: ค่าตอบแทน | F82: 531000 | G82: 25000 | I82: =G82-47500 -> -22500
A83: 6081000 | C83: =SUM(A83:B83) -> 6081000 | D83: =G83 -> 18843.25 | E83: ค่าใช้สอย | F83: 532000 | G83: 18843.25
A84: 2230000 | C84: =SUM(A84:B84) -> 2230000 | D84: =G84 -> 0 | E84: ค่าวัสดุ | F84: 533000 | G84: 0
...

Sheet Sheet2

Sheet Sheet3
