Workbook

Sheet Sheet1
A1: องค์การบริหารส่วนตำบลควนสตอ
A2: รายงาน รับ - จ่ายเงิน
A3: ปีงบประมาณ 2560 ประจำเดือน ตุลาคม 2559
A4: จนถึงปัจจุบัน
A5: ประมาณการ | B5: เงินอุดหนุนระบุ | C5: รวม | D5: เกิดขึ้นริง | E5: รายการ | F5: รหัสบัญชี | G5: จำนวนเงินเดือนนี้
A6: (บาท) | B6: ระบวัตถุประสงค์/ | C6: (บาท) | D6: (บาท) | G6: ที่เกิดขึ้นจริง
B7: เฉพาะกิจ(บาท) | G7: (บาท)
D8: 23097922 | E8: ยอดยกมา | G8: 23097922
E9: รายรับ(หมายเหตุ)1
A10: 245120 | B10: 0 | C10: =SUM(A10:B10) -> 245120 | D10: =G10 -> 330 | E10: ภาษีอากร | F10: 411000 | G10: 330
A11: 404550 | B11: 0 | C11: =SUM(A11:B11) -> 404550 | D11: =G11 -> 10940 | E11: ค่าธรรมเนียม ค่าปรับและใบอนุญาต | F11: 412000 | G11: 10940
A12: 133000 | B12: 0 | C12: =SUM(A12:B12) -> 133000 | D12: =G12 -> 0 | E12: รายได้จากทรัพย์สิน | F12: 413000 | G12: 0
A13: 0 | B13: 0 | C13: =SUM(A13:B13) -> 0 | D13: =G13 -> 0 | E13: รายได้จากสาธารณูปโภคและการพาณิช | F13: 414000 | G13: 0
A14: 10000 | B14: 0 | C14: =SUM(A14:B14) -> 10000 | D14: =G14 -> 330 | E14: รายได้เบ็ดเตล็ด | F14: 415000 | G14: 330
A15: 1000 | B15: 0 | C15: =SUM(A15:B15) -> 1000 | D15: =G15 -> 0 | E15: รายได้จากทุน | F15: 416000 | G15: 0
A16: 16206330 | B16: 0 | C16: =SUM(A16:B16) -> 16206330 | D16: =G16 -> 12280.83 | E16: ภาษีจัดสรร | F16: 421000 | G16: 12280.83
A17: 30120000 | B17: 0 | C17: =SUM(A17:B17) -> 30120000 | D17: =G17 -> 10802052 | E17: เงินอุดหนุนทั่วไป | F17: 431000 | G17: =4449622+6352430 -> 10802052
D18: =G18 -> 24105 | E18: เงินมัดจำประกันสัญญา | G18: 24105
D19: =G19 -> 0 | E19: คาใช้จ่าย ภบท.5%
D20: =G20 -> 106.8 | E20: ส่วนลด ภบท.6% | G20: 106.8
D21: =G21 -> 1763.37 | E21: ภาษี หัก ณที่จ่าย | G21: 1763.37
D22: =G22 -> 0 | E22: ลูกหนี้-เงินทุนโครงการเศรษฐกิจชุมชน
D23: =G23 -> 1391.2 | E23: ลูกหนี้-ภาษีบำรุงท้องที่ | G23: 1391.2
D24: =G24 -> 0 | E24: เงินอุดหนุนจากรัฐบาลค้างรับ
D25: =G25 -> 0 | E25: เจ้าหนี้เงินสะสม
D26: =G26 -> 7304 | E26: เงินรับฝาก-ประกันสังคม | G26: 7304
D27: =G27 -> 260666.5 | E27: เงินรับฝาก-ค่าใช้จ่ายอื่น | G27: 260666.5
D28: =G28 -> 134400 | E28: ลูกหนี้เงินยืม | G28: 134400
A37: =SUM(A10:A36) -> 47120000 | B37: =SUM(B10:B36) -> 0 | C37: =SUM(C10:C36) -> 47120000 | D37: =SUM(D10:D36) -> 11255670 | E37: รวมรายรับ | G37: =SUM(G10:G36) -> 11255670
A74: จนถึงปัจจุบัน
A75: ประมาณการ | B75: เงินอุดหนุนระบุ | C75: รวม | D75: เกิดขึ้นริง | E75: รายการ | F75: รหัสบัญชี | G75: จำนวนเงินเดือนนี้
A76: (บาท) | B76: ระบวัตถุประสงค์/ | C76: (บาท) | D76: (บาท) | G76: ที่เกิดขึ้นจริง
B77: เฉพาะกิจ(บาท) | G77: (บาท)
E78: รายจ่าย
A79: 11062000 | C79: =SUM(A79:B79) -> 11062000 | D79: =G79 -> 906704 | E79: งบกลาง | F79: 511000 | G79: =772304+134400 -> 906704
A80: 2484720 | C80: =SUM(A80:B80) -> 2484720 | D80: =G80 -> 207060 | E80: เงินเดือน(ฝ่ายการเมือง) | F80: 521000 | G80: 207060
A81: 11385480 | C81: =SUM(A81:B81) -> 11385480 | D81: =G81 -> 832615 | E81: เงินเดือน(ฝ่ายประจำ) | F81: 522000 | G81: 832615 | I81: =538775-539575 -> -800
A82: 676800 | C82: =SUM(A82:B82) -> 676800 | D82: =G82 -> 25000 | E82: ค่าตอบแทน | F82: 531000 | G82: 25000 | I82: =G82-47500 -> -22500
A83: 6081000 | C83: =SUM(A83:B83) -> 6081000 | D83: =G83 -> 18843.25 | E83: ค่าใช้สอย | F83: 532000 | G83: 18843.25
A84: 2230000 | C84: =SUM(A84:B84) -> 2230000 | D84: =G84 -> 0 | E84: ค่าวัสดุ | F84: 533000 | G84: 0
A85: 314000 | C85: =SUM(A85:B85) -> 314000 | D85: =G85 -> 17176.27 | E85: ค่าสาธารณูปโภค | F85: 534000 | G85: 17176.27
A86: 96500 | C86: =SUM(A86:B86) -> 96500 | D86: =G86 -> 0 | E86: ค่าครุภัณฑ์ | F86: 541000 | G86: 0
A87: 10515500 | C87: =SUM(A87:B87) -> 10515500 | D87: =G87 -> 0 | E87: ค่าที่ดินและสิ่งก่อสร้าง | F87: 542000 | G87: 0
A88: 2274000 | C88: =SUM(A88:B88) -> 2274000 | D88: =G88 -> 0 | E88: เงินอุดหนุน | F88: 561000 | G88: 0
D89: =G89 -> 0 | E89: เงินสะสม | F89: 310000 | G89: 0
D90: =G90 -> 134400 | E90: ลูกหนี้เงินยืม | F90: 113100 | G90: 134400 | I90: 2744005.3
D91: =G91 -> 164700 | E91: รายจ่ายค้างจ่าย (หมายเหตุ 2) | F91: 211000 | G91: =164700 -> 164700 | I91: -2609605.3
D92: =G92 -> 437506.75 | E92: เงินรับฝาก (หมายเหตุ 4) | F92: 215000 | G92: =3616.25+165920+7304+260666.5 -> 437506.75 | I92: .
D93: =G93 -> 0 | E93: ลูกหนี้เงินสะสม | I93: =SUM(I90:I92) -> 134400
A97: =SUM(A79:A96) -> 47120000 | B97: =SUM(B79:B96) -> 0 | C97: =SUM(C79:C96) -> 47120000 | D97: =SUM(D79:D96) -> 2744005.3 | E97: รวมรายจ่าย | G97: =SUM(G79:G96) -> 2744005.3
E98: สูงกว่า
E99: รายรับ รายจ่าย | I99: 31609587
D100: =D37-D97 -> 8511664.4 | E100: (ต่ำกว่า) | G100: =G37-G97 -> 8511664.4 | I100: -31472138
D101: =D8+D100 -> 31609587 | E101: ยอดยกไป | G101: =G8+G100 -> 31609587 | I101: =SUM(I99:I100) -> 137448.59
I102: -720
I103: =SUM(I101:I102) -> 136728.59
I104: -18895290
I105: =SUM(I103:I104) -> -18758561
A111: องค์การบริหารส่วนตำบลควนสตอ
A112: รายงาน รับ - จ่ายเงิน
A113: ปีงบประมาณ 2560 ประจำเดือน พฤศจิกายน 2559
A114: จนถึงปัจจุบัน
A115: ประมาณการ | B115: เงินอุดหนุนระบุ | C115: รวม | D115: เกิดขึ้นริง | E115: รายการ | F115: รหัสบัญชี | G115: จำนวนเงินเดือนนี้
A116: (บาท) | B116: ระบวัตถุประสงค์/ | C116: (บาท) | D116: (บาท) | G116: ที่เกิดขึ้นจริง
B117: เฉพาะกิจ(บาท) | G117: (บาท)
D118: 23097922 | E118: ยอดยกมา | G118: =G101 -> 31609587
E119: รายรับ(หมายเหตุ)1
A120: 245120 | B120: 0 | C120: =SUM(A120:B120) -> 245120 | D120: =G120+D10 -> 465.36 | E120: ภาษีอากร | F120: 411000 | G120: 135.36
A121: 404550 | B121: 0 | C121: =SUM(A121:B121) -> 404550 | D121: =G121+D11 -> 31470 | E121: ค่าธรรมเนียม ค่าปรับและใบอนุญาต | F121: 412000 | G121: 20530
A122: 133000 | B122: 0 | C122: =SUM(A122:B122) -> 133000 | D122: =G122+D12 -> 4273.97 | E122: รายได้จากทรัพย์สิน | F122: 413000 | G122: 4273.97
A123: 0 | B123: 0 | C123: =SUM(A123:B123) -> 0 | D123: =G123+D13 -> 0 | E123: รายได้จากสาธารณูปโภคและการพาณิช | F123: 414000 | G123: 0
A124: 10000 | B124: 0 | C124: =SUM(A124:B124) -> 10000 | D124: =G124+D14 -> 660 | E124: รายได้เบ็ดเตล็ด | F124: 415000 | G124: 330
A125: 1000 | B125: 0 | C125: =SUM(A125:B125) -> 1000 | D125: =G125+D15 -> 0 | E125: รายได้จากทุน | F125: 416000 | G125: 0
A126: 16206330 | B126: 0 | C126: =SUM(A126:B126) -> 16206330 | D126: =G126+D16 -> 2633372.5 | E126: ภาษีจัดสรร | F126: 421000 | G126: 2621091.6
A127: 30120000 | B127: 0 | C127: =SUM(A127:B127) -> 30120000 | D127: =G127+D17 -> 10802052 | E127: เงินอุดหนุนทั่วไป | F127: 431000 | G127: 0
D128: =G128+D18 -> 30718 | E128: เงินมัดจำประกันสัญญา | G128: 6613
D129: =G129+D19 -> 0 | E129: คาใช้จ่าย ภบท.5%
D130: =G130+D20 -> 153.12 | E130: ส่วนลด ภบท.6% | G130: 46.32
D131: =G131+D21 -> 8323.6 | E131: ภาษี หัก ณที่จ่าย | G131: 6560.23
D132: =G132+D22 -> 20800 | E132: ลูกหนี้-เงินทุนโครงการเศรษฐกิจชุมชน | G132: 20800
D133: =G133+D23 -> 1981.52 | E133: ลูกหนี้-ภาษีบำรุงท้องที่ | G133: 590.32
D134: =G134+D24 -> 0 | E134: เงินอุดหนุนจากรัฐบาลค้างรับ | G134: 0
D135: =G135+D25 -> 0 | E135: เจ้าหนี้เงินสะสม | G135: 0
D136: =G136+D26 -> 14608 | E136: เงินรับฝาก-ประกันสังคม | G136: 7304
D137: =G137+D27 -> 521501.75 | E137: เงินรับฝาก-ค่าใช้จ่ายอื่น | G137: 260835.25
D138: =G138+D28 -> 134400 | E138: ลูกหนี้เงินยืม | G138: 0
D139: =G139+D32 -> 2340 | E139: เงินรับฝาก-ค่ารักษาพยาบาล | G139: 2340
A146: =SUM(A120:A145) -> 47120000 | B146: =SUM(B120:B145) -> 0 | C146: =SUM(C120:C145) -> 47120000 | D146: =SUM(D120:D145) -> 14207120 | E146: รวมรายรับ | G146: =SUM(G120:G145) -> 2951450.1
A183: จนถึงปัจจุบัน
A184: ประมาณการ | B184: เงินอุดหนุนระบุ | C184: รวม | D184: เกิดขึ้นริง | E184: รายการ | F184: รหัสบัญชี | G184: จำนวนเงินเดือนนี้
A185: (บาท) | B185: ระบวัตถุประสงค์/ | C185: (บาท) | D185: (บาท) | G185: ที่เกิดขึ้นจริง
B186: เฉพาะกิจ(บาท) | G186: (บาท)
E187: รายจ่าย
A188: =[1]โอนงบประมาณ!E40 -> 10932000 | C188: =SUM(A188:B188) -> 10932000 | D188: =G188+D79 -> 1543342 | E188: งบกลาง | F188: 511000 | G188: 636638
A189: =[1]โอนงบประมาณ!E41 -> 2484720 | C189: =SUM(A189:B189) -> 2484720 | D189: =G189+D80 -> 414120 | E189: เงินเดือน(ฝ่ายการเมือง) | F189: 521000 | G189: 207060
A190: =[1]โอนงบประมาณ!E42 -> 11385480 | C190: =SUM(A190:B190) -> 11385480 | D190: =G190+D81 -> 1681570 | E190: เงินเดือน(ฝ่ายประจำ) | F190: 522000 | G190: 848955
A191: =[1]โอนงบประมาณ!E43 -> 646800 | C191: =SUM(A191:B191) -> 646800 | D191: =G191+D82 -> 50000 | E191: ค่าตอบแทน | F191: 531000 | G191: 25000
A192: =[1]โอนงบประมาณ!E44 -> 6271000 | C192: =SUM(A192:B192) -> 6271000 | D192: =G192+D83 -> 589504.25 | E192: ค่าใช้สอย | F192: 532000 | G192: 570661
A193: =[1]โอนงบประมาณ!E45 -> 2200000 | C193: =SUM(A193:B193) -> 2200000 | D193: =G193+D84 -> 42937.35 | E193: ค่าวัสดุ | F193: 533000 | G193: 42937.35
A194: =[1]โอนงบประมาณ!E46 -> 314000 | C194: =SUM(A194:B194) -> 314000 | D194: =G194+D85 -> 36772.9 | E194: ค่าสาธารณูปโภค | F194: 534000 | G194: 19596.63
...

Sheet Sheet2

Sheet Sheet3
