Workbook

Sheet แสดงฐานะการเงิน
A2: องค์การบริหารส่วนตำบลควนสตอ
A3: งบแสดงฐานะการเงิน
A4: ณ วันที่ 29 กันยายน 2560
G6: หมายเหตุ
A7: ทรัพย์สินตามงบทรัพย์สิน | G7: 1 | J7: ='หมายเหตุ 1'!C27 -> 81918705
A8: สินทรัพย์
B9: สินทรัพย์หมุนเวียน
C10: เงินสดและเงินฝากธนาคาร | G10: 2 | J10: ='หมายเหตุ 2'!H24 -> 24936818
C11: ลูกหนี้เงินยืม | J11: 0
C12: รายได้จากรัฐบาลค้างรับ | G12: 3 | J12: ='หมายเหตุ 3'!F9 -> 89600
C13: ลูกหนี้ค่าภาษีบำรุงท้องที่ | G13: 4 | J13: ='หมายเหตุ 4'!G27 -> 14786.18
C14: ลูกหนี้เงินทุนโครงการเศรษฐกิจชมชน | G14: 5 | J14: ='หมายเหตุ 5.'!D30 -> 518543.4 | L14: =519943.4-518543.4 -> 1400
C15: ลูกหนี้เงินสะสม | J15: 89600
C16: ทรัพย์สินหมนเวียนอื่น | J16: 0
C17: รวมสินทรัพย์หมุนเวียน
B18: สินทรัพย์ไม่หมุนเวียน
C19: สินทรัพย์ไม่หมุนเวียนอื่น | J19: 0
C20: รวมสินทรัพย์ไม่หมุนเวียนหมุนเวียน
M21: =J24-#REF! -> #REF!
B22: รวมสินทรัพย์ | J22: =SUM(J10:J21) -> 25649347
A39: องค์การบริหารส่วนตำบลควนสตอ
A40: งบแสดงฐานะการเงิน
A41: ณ วันที่ 29 กันยายน 2560
A42: ทุนทรัพย์สิน | J42: =J7 -> 81918705
A43: หนี้สิน | G43: หมายเหต
B44: หนี้สินหมุนเวียน
C45: รายจ่ายค้างจ่าย | G45: 6 | J45: ='หมายเหตุ 6.'!G54 -> 4141634.8
C46: ฎีกาค้างจ่าย | J46: 0
C47: รายจ่ายผัดส่งใบสำคัญ | J47: 0
C48: เงินรับฝาก | G48: 7 | J48: ='หมายเหตุ 7.'!G15 -> 3114992.8 | L48: =3114992.78-3116392.78 -> -1400
C49: หนี้สินหมุนเวียนอื่น | J49: 0
C50: เจ้าหนี้เงินสะสม | J50: 89600
C51: รวมหน้สินหมุนเวียน | J51: =SUM(J45:J50) -> 7346227.6
B52: หนี้สินไม่หมนเวียน | L52: =J22-J61 -> 0
C53: หนี้สสินไม่หมุนเวียน | J53: 0
C54: รวมหนี้สินไม่หมุนเวียน
B56: เงินสะสม
C57: เงินสะสม | G57: 8 | J57: ='หมายเหตุ 8'!H32 -> 9227399.4
C58: เงินทุนสำรองเงินสะสม | J58: 9075720.4
C59: รวมเงินสะสม
J60: =SUM(J57:J59) -> 18303120
B61: รวมหนี้สินและเงินสะสม | J61: =J51+J60 -> 25649347 | L61: =J61-25650747.43 -> -1400

Sheet ข้อมูลทั่วไป
A1: องค์การบริหารส่วนตำบลควนสตอ อำเภอควนโดน จังหวัดสตูล | M1: 1
A2: หมายเหตุ ประกอบงบการแสดงฐานะการเงิน
A3: สำหรับปี สิ้นสุดวันที่ 29 กันยายน 2560
B5: ข้อมูลทั่วไป
C6: องค์การบริหารส่วนตำบลควนสตอ เป็นหน่วยงานองค์กรปกครองส่วนท้องถิ่น ยกฐานะจากสภาตำบล
B7: ขึ้นเป็นองค์การบริหารส่วนตำบล ตามประกาศกระทรวงมหาดไทย เรื่องการจัดตั้งองค์การบริหารส่วนตำบล
B8: ลงวันที่ 16 ธันวาคม 2539 โดยมีผลบังคับใช้เมื่อวันที่ 23 กุมภาพันธ์ 2540
C9: ตั้งอยู่ หมู่ที่ 6 ตำบลควนสตอ อำเภอควนโดน จังหวัดสตูล 91160
B10: หมายเลขโทรศัพท์ 074-735345 มีประชากรทั้งสิ้น 7,964 คน แยกเป็น ผู้ชาย 3,905 คน และ
B11: ผู้หญิง 4,059 คน แบ่งเป็น 10 หมู่บ้าน หมู่ที่ 1 - 10 มีพื้นที่รับผิดชอบทั้งหมด 36 ตารางกิโลเมตร
C12: ส่วนโครงสร้างการบริหารงานขององค์การบริหารส่วนตำบลควนสตอ แบ่งหน่วยงานย่อยเป็น 6 หน่วยงาน
B13: คือ
C14: 1. สำนักปลัด รับผิดชอบงานบริหารงานบคคล งานกิจการสภา อบต. งานงบประมาณ งานส่งเสริม
B15: การท่องเที่ยว งานนิติกรและกฏหมาย งานธุรการกลาง โดยมี นายมานะ ด่านเท่ง เป็น หัวหน้าสำนักปลัด
C16: 2. กองคลัง รับผิดชอบงานการเงินและบัญชี งานพัสดุ งานจัดเก็บรายได้และพัฒนารายได้
B17: งานแผนที่ภาษีและทะเบียนทรัพย์สิน โดยมี นายสูดีมัน ยูโซ๊ะ เป็น ผู้อำนวยการกองคลัง
C18: 3. กองช่าง รับผิดชอบดูแลงานกิจการสาธารณูปโภค (ไฟฟ้า ประปา) งานโครงสร้างพื้นฐาน สำรวจ
B19: ออกแบบ และควบคุมงานก่อสร้าง โดยมี ส.ต.ต.ธวัชชัย ปีมะสาร เป็น ผู้อำนวยการกองช่าง
C20: 4. กองการศึกษา ศาสนา และวัฒนธรรม รับผิดชอบ ศูนย์พัฒนาเด็กเล็กในตำบลควนสตอทั้งหมด
B21: งานส่งเสริมวัฒนธรรมและประเพณีท้องถิ่น งานส่งเสริมกีฬาและนันทนาการ
C22: 5. กองสาธารณสุข รับผิดชอบดูแลงานสาธารณสุขชุมชน และสิ่งแวดล้อม โดยมี นายคอเหลด นาฮับผล
B23: เป็น ผู้อำนวยการกองสาธารณสุข
C24: 6. ส่วนสวัสดิการสังคมและการเกษตร รับผิดชอบดูแลงานสังคมสงเคราะห์ผู้สูงอายุ คนพิการ ผู้ป่วยเอดส์
B25: ผู้ด้อยโอกาส งานเสริมสร้างพัฒนาคุณภาพชีวิต งานส่งเสริมอาชีพ โดยมี นางสาวสะฝียะ หมุดบินสัน
B26: เป็นหัวหน้าส่วน
B28: หมายเหตุ 1 นโยบายการบัญชีที่สำคัญ
C29: 1.1 หลักเกณฑ์ในการจัดทำงบแสดงฐานะการเงิน
D30: ปฏิบัติงานด้านการเงินและบัญชี ตามระเบียบกระทรวงมหาดไทย ว่าด้วยการรับเงิน
B31: การเบิกจ่ายเงิน การฝากเงิน การเก็บรักษาเงินแลการตรวจกเงินขององค์กรปกครองส่วนท้องถิ่น พ.ศ. 2547
B32: ฉบับที่ 2 พ.ศ. 2548 และฉบับที่ 3 พ.ศ. 2558
D33: การบันทึกบัญชีเพื่อจัดทำงบแสดงฐานะการเงินเป็นไปตามเกณฑ์เงินสดและเกณฑ์คงค้าง
B34: ตามประกาศกระทรวงมหาดไทย เรื่อง หลักเกณฑ์และวิธีปฏิบัติการบันทึกบัญชี การจัดทำทะเบียน และ
B35: รายงานการเงินขององค์กรปกครองส่วนท้องถิ่น เมื่อวันที่ 20 มีนาคม พ.ศ. 2558 และหนังสือสั่งการที่เกี่ยวข้อง
C36: 1.2 รายการเปิดเผยอื่นใด - ไม่มี -
C48: 1

Sheet หมายเหตุ 1
A1: องค์การบริหารส่วนตำบลควนสตอ
A2: หมายเหตุ ประกอบงบแสดงฐานะการเงิน
A3: สำหรับปี สิ้นสุดวันที่ 29 กันยายน 2560
A4: หมายเหตุ 1 งบทรัพย์สิน
A5: ประเภททรัพย์สิน | C5: ราคาทรัพย์สิน | D5: แหล่งทรัพย์สิน
D6: ชื่อ | E6: จำนวนเงิน
A7: ก. | B7: อสังหาริมทรัพย์
B8: ที่ดิน | C8: =2658725+455000+304000+274400+396900+121100+120400+268240+131600+102900+84000+65800 -> 4983065 | D8: ก. เงินรายได้องค์การบริหารส่วนตำบล | E8: =2607188+274400+207700+4137338+95800+16900+35200+21202+9327770.55+75500-239400 -> 16559599
B9: สำนักงาน ที่ทำการ ศูนย์การบริหารงาน | C9: =32848536.8+4398000+4929770.55 -> 42176307 | D9: ข. เงินอุดหนุนรัฐบาล | E9: =15179246.98+139500-242150+127000-82100+120400+268240+131600+102900+84000+65800+142389.96-118158-617870.66+1977748.66-234445+2720000+75520 -> 19839622
B10: สาธารณูปโภค | C10: =6771143.18+13671459.93+2720000 -> 23162603 | D10: ค. เงินสะสม | E10: =4317225+2245000+455000+121100+304000+396900 -> 7839225
B11: ทั่วไป | C11: 2707035 | D11: ง. อื่นๆ - รับบริจาค | E11: 8800
D12: - รับโอน | E12: =24000000+13671459.93 -> 37671460
A13: ข. | B13: สังหาริมทรัพย์
B14: ประเภททั่วไป | C14: =4903500+35700-1000 -> 4938200
B15: ประเภทโยธา | C15: =221684-49584 -> 172100
B16: ประเภทวิทยาศาสตร์และการแพทย์ | C16: 245250
B17: ประเภทเครื่องใช้สำนักงาน | C17: =3141585.96+712840-328756+95800+35200-234445+128920+15600-239400 -> 3327345
B18: ประเภทงานบ้านงานครัว | C18: =304000-173500+21202+6500 -> 158202
B19: ประเภทการกีฬา | C19: =16700-16700 -> 0
B20: ประเภทการเกษตร | C20: =16000+31698-16000 -> 31698
B21: ประเภทก่อสร้าง | C21: 16900
B27: รวม | C27: =SUM(C8:C25) -> 81918705 | E27: =SUM(E8:E22) -> 81918705 | F27: =E27-C27 -> 0

Sheet หมายเหตุ 2
A1: องค์การบริหารส่วนตำบลควนสตอ
A2: หมายเหตุประกอบงบแสดงฐานะการเงิน
A3: สำหรับปี สิ้นสุดวันที่ 29 กันยายน 2560
A5: หมายเหตุ 2 เงินสดและเงินฝากธนาคาร
A6: เงินสด | H6: 0
A7: เงินฝากธนาคาร
B8: กรุงไทย | C8: ประเภท ออมทรัพย์
C9: - | D9: บัญชีเลขที่ 980-2-12961-5 | H9: 13651420
C10: - | D10: บัญชีเลขที่ 980-2-12965-8 | H10: 761924.86
C11: ประเภท กระแสรายวัน
C12: - | D12: บัญชีเลขที่ 980-1-58705-9 | H12: 2432574.4
B13: ธกส. | C13: ประเภท ออมทรัพย์
D14: บัญชีเลขที่ 275-2-16256-5 | H14: 4536377.6
D15: บัญชีเลขที่ 275-2-22236-9 | H15: 686321.78
D16: บัญชีเลขที่ 275-2-21038-8 | H16: 101958.74
C17: ประเภท ประจำ 3 เดือน
D18: บัญชีเลขที่ 275-4-01121-7 | H18: 611377.53
B19: ธ.อิสลามแห่งประเทศไทย ประเภท ออมทรัพย์
D20: บัญชีเลขที่ 586-1-19222-7 | H20: 154863.19
C21: ประเภท ประจำ 12 เดือน
D22: บัญชีเลขที่ 586-2-01826-3 | H22: 2000000
H24: =SUM(H9:H23) -> 24936818

Sheet หมายเหตุ 3
A1: องค์การบริหารส่วนตำบลควนสตอ
A2: หมายเหตุประกอบงบแสดงฐานะการเงิน
A3: สำหรับปี สิ้นสุดวันที่ 29 กันยายน 2560
A5: หมายเหตุ 3 รายได้จากรัฐบาลค้างรับ
B7: เบี้ยยังชีพคนพิการ | F7: 89600
C9: รวม | F9: =SUM(F7:F8) -> 89600

Sheet หมายเหตุ 4
A3: องค์การบริหารส่วนตำบลควนสตอ
A4: หมายเหตุประกอบงบแสดงฐานะการเงิน
A5: สำหรับปี สิ้นสุดวันที่ 29 กันยายน 2560
A7: หมายเหตุ 4 ลูกหนี้ค่าภาษี
B9: ประเภทลูกหนี้ | E9: ประจำปี | F9: จำนวนราย | G9: จำนวนเงิน
B11: ลูกหนี้ภาษีบำรุงท้องที่ | E11: 2546 | F11: 25 | G11: 865.18
E12: 2547 | F12: 31 | G12: 979.76
E13: 2548 | F13: 33 | G13: 1050.55
E14: 2549 | F14: 1 | G14: 27.26
E15: 2550 | F15: 5 | G15: 308.79
E16: 2551 | F16: 23 | G16: 696.07
E17: 2552 | F17: 31 | G17: 828.61
E18: 2553 | F18: 4 | G18: 68.62
E19: 2554 | F19: 14 | G19: 366.6
E20: 2555 | F20: 31 | G20: 560.24
E21: 2556 | F21: 48 | G21: 781.14
E22: 2557 | F22: 36 | G22: 964.44
E23: 2558 | F23: 60 | G23: 1455.12
... E25: 2560 | F25: 123 | G25: 3353.07
B27: รวม | F27: =SUM(F11:F25) -> 559 | G27: =SUM(G11:G26) -> 14786.18

Sheet หมายเหตุ 5.
A1: องค์การบริหารส่วนตำบลควนสตอ
A2: หมายเหตุประกอบงบแสดงฐานะการเงิน
A3: สำหรับปี สิ้นสุดวันที่ 29 กันยายน 2560
A5: หมายเหตุ 5 ลูกหนี้เงินทุนเศรษฐกิจชุมชน
A7: ลำดับ | B7: ชื่อ - สกุล ผู้ยืม | C7: โครงการที่ยืม | D7: จำนวนเงิน
A8: 1 | B8: นายฮาแมน เบ็ญหมีน | C8: เลขที่สัญญาเงินกู้ที่ 3/2544 (กลุ่มปลูผักสวนครัว ม.10) | D8: 16800
A9: 2 | B9: นายยาฝาด สาและ | C9: เลขที่สัญญาเงินกู้ที่ 15/2544 (กลุ่มเลี้ยปลาดุก ม.4) | D9: 55250
A10: 3 | B10: นายสัยนุนอามิดีน มิลาอาบู | C10: เลขที่สัญญาเงินกู้ที่ 1/2545 (กลุ่มเลี้ยงไก่พื้นเมือง ม.4) | D10: 33000
A11: 4 | B11: นายรอสีดี นุ่งอาหลี | C11: เลขที่สัญญาเงินกู้ที่ 2/2545 (กลุ่มเลี้ยงแพะ ม.8) | D11: 13200
A12: 5 | B12: นายสุรชาติ ตาเดอิน | C12: เลขที่สัญญาเงินกู้ที่ 3/2545 (กลุ่มเลี้ยงปลาดุก ม.9) | D12: 33000
A13: 6 | B13: นายอาเบต เกปัน | C13: เลขที่สัญญาเงินกู้ที่ 1/2547 (กลุ่มปลูกผักปลอดสารพิษ ม.7) | D13: 9720
A14: 7 | B14: นายอารีย์ หลีเยาว์ | C14: เลขที่สัญญาเงินกู้ที่ 4/2547 (กลุ่มซ่อมรถจักรยานยนต์ ม.8) | D14: 4860
A15: 8 | B15: นายมาหมาด ตั้งใหม่ | C15: เลขที่สัญญาเงินกู้ที่ 5/2547 (กลุ่มส่งเสริมอาชีพเลี้ยงแพะ ม.1) | D15: 7300.82
A16: 9 | B16: นายพรหมมศ วงศ์ศรีทอง | C16: เลขที่สัญญาเงินกู้ที่ 1/2551 (กลุ่มเลี้ยงปลาดุก ม.9) | D16: 40000
A17: 10 | B17: นายอับดุลเลาะห์ บูเดียะ | C17: เลขที่สัญญาเงินกู้ที่ 2/2551 (กลุ่มเลี้ยงแพะ ม.5) | D17: 7957
A18: 11 | B18: นายมะสัน บิลาอาบู | C18: เลขที่สัญญาเงินกู้ที่ 1/2555 (กลุ่มเลี้ยงโคพื้นเมือง ม.2) | D18: 18000
A19: 12 | B19: นายอุสมาน มันเละ | C19: เลขที่สัญญาเงินกู้ที่ 1/2556 (กลุ่มทำกระถางปูนปั้น ม.10) | D19: 60000
... A21: 14 | B21: นายชนิษฐา คงแก้ว | C21: เลขที่สัญญาเงินกู้ที่ 2/2557 (กลุ่มวิสาหกิจ ผลิตภัณฑ์เกษตร | D21: 24000
C22: ปลอดภัย
A23: 15 | B23: นายรอหนี จังแดหวา | C23: เลขที่สัญญาเงินกู้ที่ 1/2558 (กลุ่มเลี้ยงโคพื้นเมือง ม.1) | D23: 55856.58
A24: 16 | B24: นายอับดุลรอศักดิ์ น้อยประดู่ | C24: เลขที่สัญญาเงินกู้ที่ 2/2558 (กลุ่มเลี้ยงแพะ ม.2) | D24: 29599
A25: 17 | B25: นายอิบรอเหม วัดเส็น | C25: เลขที่สัญญาเงินกู้ที่ 1/2559 (กลุ่มวิสาหกิจกรุ่มเลี้ยงเป็ดเทศ ม.6) | D25: 60000
A26: 18 | B26: นางรอเฝี่ยะ เบ็ญหมีน | C26: เลขที่สัญญาเงินกู้ที่ 2/2559 (กลุ่มผลิตภัณฑ์ข้าวซ้อมมือ ม.10) | D26: 20000
D30: =SUM(D8:D29) -> 518543.4

Sheet หมายเหตุ 6.
A1: องค์การบริหารส่วนตำบลควนสตอ
A2: หมายเหตุประกอบงบแสดงฐานะการเงิน
A3: สำหรับปี สิ้นสุดวันที่ 29 กันยายน 2560
A5: หมายเหตุ 6 รายจ่ายค้างจ่าย
A6: แหล่งเงิน | B6: แผนงาน | C6: งาน | D6: หมวด | E6: ประเภท | F6: โครงการ | G6: จำนวนเงิน
A7: เงินงบประมาณ | B7: กาศึกษา | C7: ระดับก่อนวัยเรียนและ | D7: เงินเดือน | E7: เงินเดือนผู้ดูแลเด็ก | G7: 80120
C8: ประถมวัย | E8: ค่าตอบแทนผู้ดูแลด็ก | G8: 262650
A9: เงินงบประมาณ | B9: บริหารงานทั่วไป | C9: บริหารงานทั่วไป | D9: ค่าใช้สอย | E9: รายจ่ายเพื่อให้ได้มาซึ่งบริการ | F9: จ้างเหมาบริการคนขับรถรถน้ำเอนกประสงค์ | G9: 7000
B10: บริหารงานทั่วไป | C10: บริหารงานทั่วไป | D10: ค่าใช้สอย | E10: รายจ่ายเพื่อให้ได้มาซึ่งบริการ | F10: จ้างเหมาบริการคนงานประจำรถน้ำเอนกประสงค์ | G10: 6800
A11: " | B11: บริหารงานทั่วไป | C11: บริหารงานทั่วไป | D11: ค่าใช้สอย | E11: รายจ่ายเพื่อให้ได้มาซึ่งบริการ | F11: จ้างเหมาบริการคนขับรถยนต์ส่วนกลาง | G11: 7300
A12: " | B12: บริหารงานทั่วไป | C12: บริหารงานทั่วไป | D12: ค่าใช้สอย | E12: รายจ่ายเพื่อให้ได้มาซึ่งบริการ | F12: จ้างเหมาบริการรักษาความปลอดภัย | G12: 7000
A13: " | B13: บริหารงานทั่วไป | C13: บริหารงานทั่วไป | D13: ค่าใช้สอย | E13: รายจ่ายเพื่อให้ได้มาซึ่งบริการ | F13: จ้างเหมาบริการแม่บ้านประจำ สนง.อบต. | G13: 6500
A14: " | B14: บริหารงานทั่วไป | C14: บริหารงานทั่วไป | D14: ค่าใช้สอย | E14: รายจ่ายเพื่อให้ได้มาซึ่งบริการ | F14: จ้างเหมาบริการผู้ช่ายเจ้าหน้าที่บันทึกข้อมูล | G14: 6500
A15: " | B15: บริหารงานทั่วไป | C15: บริหารงานคลัง | D15: ค่าใช้สอย | E15: รายจ่ายเพื่อให้ได้มาซึ่งบริการ | F15: จ้างเหมาบริการผู้ช่วยเจ้าหน้าทีธุรการ | G15: 7000
A16: " | B16: บริหารงานทั่วไป | C16: บริหารงานคลัง | D16: ค่าใช้สอย | E16: รายจ่ายเพื่อให้ได้มาซึ่งบริการ | F16: จ้างเหมาบริการจัดทำแผนที่ภาษีฯ | G16: 7300
A17: " | B17: บริหารงานทั่วไป | C17: บริหารงานคลัง | D17: ค่าใช้สอย | E17: รายจ่ายเพื่อให้ได้มาซึ่งบริการ | F17: จ้างเหมาบริการผู้ช่วยจัดทำแผนที่ภาษีฯ | G17: 7000
C18: บริหารงานคลัง | D18: ค่าใช้สอย | E18: รายจ่ายเพื่อให้ได้มาซึ่งบริการ | F18: จ้างเหมาบริการคนงานทั่วไป | G18: 6500
B19: กาศึกษา | C19: บริหารงานทั่วไปฯ | D19: ค่าใช้สอย | E19: รายจ่ายเพื่อให้ได้มาซึ่งบริการ | F19: จ้างเหมาบริการ ผช.จนท.ธุรการ | G19: 7000
B20: กาศึกษา | C20: บริหารงานทั่วไปฯ | D20: ค่าใช้สอย | E20: รายจ่ายเพื่อให้ได้มาซึ่งบริการ | F20: จ้างเหมาบริการ ผช.จนท.สันทนาการ | G20: 7100
B21: กาศึกษา | C21: บริหารงานทั่วไปฯ | D21: ค่าใช้สอย | E21: รายจ่ายเพื่อให้ได้มาซึ่งบริการ | F21: จ้างเหมาบริการ คนงานทั่วไป | G21: 7100
B22: กาศึกษา | C22: บริหารงานทั่วไปฯ | D22: ค่าใช้สอย | E22: รายจ่ายเพื่อให้ได้มาซึ่งบริการ | F22: จ้างเหมาบริการ คนงานทั่วไป | G22: 6800
A23: " | B23: เคหะและชุมชน | C23: กำจัดขยะมูลผอยฯ | D23: ค่าใช้สอย | E23: รายจ่ายเพื่อให้ได้มาซึ่งบริการ | F23: จ้างเหมาบริการคนขับรถขยะ อบต. | G23: 7300
A24: " | B24: เคหะและชุมชน | C24: กำจัดขยะมูลผอยฯ | D24: ค่าใช้สอย | E24: รายจ่ายเพื่อให้ได้มาซึ่งบริการ | F24: จ้างเหมาบริการจัดเก็บขยะ | G24: 7000
A25: " | B25: เคหะและชุมชน | C25: กำจัดขยะมูลผอยฯ | D25: ค่าใช้สอย | E25: รายจ่ายเพื่อให้ได้มาซึ่งบริการ | F25: จ้างเหมาบริการจัดเก็บขยะ | G25: 7000
A26: " | B26: เคหะและชุมชน | C26: กำจัดขยะมูลผอยฯ | D26: ค่าใช้สอย | E26: รายจ่ายเพื่อให้ได้มาซึ่งบริการ | F26: จ้างเหมาบริการจัดเก็บขยะ | G26: 6500
A27: " | B27: สาธารณสุข | C27: บริหารงานทั่วไปฯ | D27: ค่าใช้สอย | E27: รายจ่ายเพื่อให้ได้มาซึ่งบริการ | F27: จ้างเหมาบริการ ผช. จนท.บันทึกข้อมูล กองสาธารณสุข | G27: 6500
A28: " | B28: เคหะและชุมชน | C28: บริหารงานทั่วไปฯ | D28: ค่าใช้สอย | E28: รายจ่ายเพื่อให้ได้มาซึ่งบริการ | F28: จ้างเหมาบริการช่างซ่อมแซมไฟฟ้า | G28: 7500
G29: =SUM(G7:G28) -> 481470
A31: องค์การบริหารส่วนตำบลควนสตอ
A32: หมายเหตุประกอบงบแสดงฐานะการเงิน
A33: สำหรับปี สิ้นสุดวันที่ 29 กันยายน 2560
A35: หมายเหตุ 6 รายจ่ายค้างจ่าย
A36: แหล่งเงิน | B36: แผนงาน | C36: งาน | D36: หมวด | E36: ประเภท | F36: โครงการ | G36: จำนวนเงิน
G37: =G29 -> 481470
A38: เงินงบประมาณ | B38: สังคมสงเคราะห์ | C38: บริหารงานทั่วไปฯ | D38: ค่าใช้สอย | E38: รายจ่ายเพื่อให้ได้มาซึ่งบริการ | F38: จ้างเหมาบริการ ผช. จนท.บันทึกข้อมูลกองสวัสดิการฯ | G38: 7000
A39: " | B39: การศึกษา | C39: บริหารงานทั่วไปฯ | D39: ค่าวัสดุ | E39: วัสดุ(อาหารเสริมนม) | F39: อาหารเสริม(นม)ให้แก่โรงเรียนและศพด. | G39: 555664.8
A40: " | B40: เคหะและชุมชน | C40: ไฟฟ้าและถถนน | D40: ค่าที่ดินและสิ่งก่อสร้าง | E40: ค่าก่อสร้างสิ่งสาธารณูปโภค | F40: โครงการบุกเบิกถนนสายดาสันอุทิศ 1 หมู่ที่ 3 | G40: 299500
A41: " | B41: เคหะและชุมชน | C41: ไฟฟ้าและถถนน | D41: ค่าที่ดินและสิ่งก่อสร้าง | E41: ค่าก่อสร้างสิ่งสาธารณูปโภค | F41: โครงการบุกเบิกถนนสายตาดีกา-ท่าพรุ หมู่ที่ 2 | G41: 299400
A42: " | B42: เคหะและชุมชน | C42: ไฟฟ้าและถถนน | D42: ค่าที่ดินและสิ่งก่อสร้าง | E42: ค่าก่อสร้างสิ่งสาธารณูปโภค | F42: โครงการบุกเบิกถนนสายทุ่งออก หมู่ที่ 1 | G42: 299600
A43: " | B43: เคหะและชุมชน | C43: ไฟฟ้าและถถนน | D43: ค่าที่ดินและสิ่งก่อสร้าง | E43: ค่าก่อสร้างสิ่งสาธารณูปโภค | F43: โครงการปรับปรุงสนามกีฬากลางอำเภอควนโดน | G43: 199000
F44: หมู่ที่ 4 ตำบลควนสตอ
A45: เงินอุดหนุน | B45: เคหะและชุมชน | C45: ไฟฟ้าและถถนน | D45: ค่าที่ดินและสิ่งก่อสร้าง | E45: ค่าก่อสร้างสิ่งสาธารณูปโภค | F45: โครงการปรับปรุงสนามกีฬากลางอำเภอควนโดน | G45: 2000000
A46: เฉพาะกิจ | F46: หมู่ที่ 4 ตำบลควนสตอ | I46: 3065520
I47: 5189658.6
I48: 8043
I50: =SUM(I46:I49) -> 8263221.6
G54: =SUM(G37:G53) -> 4141634.8

Sheet หมายเหตุ 7.
A1: องค์การบริหารส่วนตำบลควนสตอ
A2: หมายเหตุประกอบงบแสดงฐานะการเงิน
A3: สำหรับปี สิ้นสุดวันที่ 29 กันยายน 2560
A4: หมายเหตุ 7 เงินรับฝาก
B6: เงินประกันสัญญา | G6: 695476
B7: ภาษีหัก ณ ที่จ่าย | G7: 32600.97
B8: ค่าใช้จ่ายภาษีบำรุงท้องที่ 5% | G8: 5675.7
B9: ส่วนลดภาษีบำรุงท้องที่ 6% | G9: 12003.19
B10: เงินเศรษฐกิจชุมชน | G10: 1204855.2
B11: กองทุนหมุนเวียน (ปุ๋ยเคมี) | G11: 101958.74
B12: ค่าบริการทางการแพทย์ | G12: 195
B13: เงินรอคืนจังหวัด | G13: 1017870
B14: เงินรับฝากอื่น(เงินรอคืนจังหวัด) | G14: 44358
C15: รวม | G15: =SUM(G6:G14) -> 3114992.8

Sheet หมายเหตุ 8
A1: องค์การบริหารส่วนตำบลควนสตอ
A2: หมายเหตุประกอบงบแสดงฐานะการเงิน
A3: สำหรับปี สิ้นสุดวันที่ 29 กันยายน 2560
A4: หมายเหตุ 8 เงินสะสม
A5: เงินสะสม 1 ตุลาคม 2559 | H5: 7424505.5
A6: รับจริงสูงกว่าจ่ายจริง | D6: 2351530.6
A7: หัก 25% ของรายรับจริงสูงกว่ารายจ่ายจริง | D7: =D6*25/100 -> 587882.65
A8: บวก | B8: รายรับจริงสูงกว่ารายจ่ายจริงหลังหักเงินทุนสำรองเงินสะสม | F8: =D6-D7 -> 1763648
B9: ปรับปรุงเพิ่มยอดลูกหนี้ภาษีบำรุงท้องที่ เนื่องจากไม่ได้บันทึกลูกหนี้ภาษีบำรุงท้องที่ | F9: 7.52
B10: ปี 2557-2558 | I10: 15.04
B11: ปรับปรุงเพิ่มยอดลูกหนี้ภาษีบำรุงท้องที่ เนื่องจากมีการคำนวนภาษีผิดพลาด ปี 2557-2558 | F11: 62.04 | I11: 47
B12: รับคืนเงินเหลือจ่ายโครงการอาหารกลางวัน ปีงบประมาณ 2559 | F12: 16825 | I12: =SUM(I10:I11) -> 62.04
B13: รับคืนงินโครงการกิจกรรมผู้สูงอายุ ปี 2559 | F13: 19100
B14: รับคืนเงินโครงการเพิ่มประสิทธิภาพการการป้องกันและแก้ไชปัญหายาเสพติด จ.สตูล | F14: 3401.84
H18: =F8+F9+F11+F12+F13+F14 -> 1803044.4
H19: =H5+H18 -> 9227549.8
A20: หัก | B20: จ่ายขาดเงินสะสม | H20: 0
B21: ปรับปรุงลดลูกหนี้ภาษีบำรุงท้องที่ เนื่องจากคำนวนภาษีผิดพลาด | H21: 32.9 | J21: =H21+H22+H23 -> 150.4
B22: ปรับปรุงลดลูกหนี้ภาษีบำรุงท้องที่ เนื่องจากมีการประเมินภาษีซ้ำ | H22: 95.88 | J22: 12.22
B23: ปรับปรุงลดลูกหนี้ภาษีบำรุงท้องที่ เนื่องจากรับชำระหนี้แล้ว แต่ยังไม่ตัดลูกหนี้ปี 2558 | H23: 21.62 | J23: 9.4
J24: =SUM(J22:J23) -> 21.62
A25: เงินสะสม 29 กันยายน 2560 | H25: =H19-H20-H21-H22-H23-H24 -> 9227399.4 | J25: 9227408.7
A26: เงินสะสม 29 กันยายน 2560 ประกอบด้วย | J26: -9227399.4
B27: 1 | C27: ลูกหนี้ค่าภาษีบำรุงท้องที่ | H27: 14786.18
B28: 2 | C28: รายได้จากรัฐบาลค้างรับ | H28: 89600 | J28: =SUM(J25:J27) -> 9.31
C31: เงินสะสมที่สามารถนำไปใช้ได้ | H31: =H25-H27-H28-H29-H30 -> 9123013.2
H32: =SUM(H27:H31) -> 9227399.4
B34: ทั้งนี้ในปีงบประมาณ 2560 ได้รับอนุมัติให้จ่ายเงินสะสมที่อยู่ระหว่างดำเนินการจำนวน 3,892,600.- บาท
B35: และจะเบิกจ่ายในปีงบประมาณต่อไป ตามรายละเอียดแนบท้ายหมายเหตุ 7
D42: 1

Sheet แนบท้าย หมายเหตุ 8
A1: องค์การบริหารส่วนตำบลควนสตอ
A2: หมายเหตุประกอบงบแสดงฐานะการเงิน
A3: สำหรับปี สิ้นสุดวันที่ 29 กันยายน 2560
A4: รายละเอียดแนบท้ายหมายเหตุ 8 เงินสะสม
A5: หมวด | B5: ประเภท | C5: โครงการ | D5: จำนวนเงิน | E5: ก่อหนี้ผูกพัน | F5: เบิกจ่ายแล้ว | G5: คงเหลือ | H5: ยังไม่ได้ก่อหนี้
D6: ที่ได้รับอนุมัติ
A8: ที่ดินและ | B8: ค่าก่อสร้างสิ่งสาธารณูปโภค | C8: โครการก่อสร้างถนน ค.ส.ล.สายเกาะเปลว หมู่ที่ 1เชื่อมต่อ | D8: 620600 | H8: 620600
A9: สิ่งก่อสร้าง | C9: ข้ามัสยิด หมู่ที่.1
A10: " | B10: " | C10: โครการก่อสร้างถนน ค.ส.ล.สายทุ่งยาง หมูที่ 2 | D10: 458600 | H10: 458600 | J10: 1
A11: " | B11: " | C11: โครงการก่อสร้างถนน ค.ส.ล.สายกลางบ้านชื่อมต่อ | D11: 573300 | H11: 573300
A12: " | B12: " | C12: ประตูลม หมู่ที่ 3
A13: " | B13: " | C13: โครงการก่อสร้างถนน ค.ส.ล.สายโคกโหนด หมู่ที่ 4 | D13: 434100 | H13: 434100
A14: " | B14: " | C14: โครงการก่อสร้างถนน ค.ส.ล. สายปากวัง หมู่ที่ 5 | D14: 534100 | H14: 534100
A15: " | B15: " | C15: โครงการก่อสร้างถนน ค.ส.ล. สายเกิดใหม่ หมู่ที่ 10 | D15: 691900 | H15: 691900
A16: " | B16: " | C16: โครงการติดตั้งโคมไฟฟ้าสาธารณะภายในตำบล หมู่ที่1-10 | D16: 480000 | H16: 480000
A17: " | B17: "
A18: " | B18: "
C19: รวม | D19: =SUM(D8:D18) -> 3792600 | E19: =SUM(E8:E18) -> 0 | F19: =SUM(F8:F18) -> 0 | G19: =SUM(G8:G18) -> 0 | H19: =SUM(H8:H18) -> 3792600

Sheet หมายเหตุ 9
A1: องค์การบริหารส่วนตำบลควนสตอ
A2: หมายเหตุประกอบงบแสดงฐานะการเงิน
A3: สำหรับปี สิ้นสุดวันที่ 29 กันยายน 2560
A5: หมายเหตุ 9 เงินทุนสำรองเงินสะสม
A7: หมวด | B7: ประเภท | C7: โครงการ | D7: จำนวนเงินที่ได้รบอนุมัติ | E7: ก่อหนี้ผูกพัน | F7: เบิกจ่ายแล้ว | G7: คงเหลือ | H7: ยังไม่ได้ก่อหนี้
A9: 0 | B9: 0 | C9: 0 | D9: 0 | E9: 0 | F9: 0 | G9: 9075720.4
G16: =SUM(G9:G15) -> 9075720.4

Sheet งบกลาง
A1: องค์การบริหารส่วนตำบลควนสตอ
A2: รายงานรายจ่ายในการดำเนินงานที่จ่ายจากเงินรายจ่ายตามแผนงาน งบกลาง
A3: ตั้งแต่วันที่ 1 ตุลาคม 2559 ถึง 29 กันยายน 2560
A5: งบ | B5: หมวด | C5: แหล่งเงิน | D5: ประมาณการ | E5: งบกลาง | F5: รวม
A7: งบกลาง | B7: งบกลาง | C7: เงินงบประมาณ | D7: 10948500 | E7: 9398109.5 | F7: =E7 -> 9398109.5
D13: =SUM(D7:D12) -> 10948500 | E13: =SUM(E7:E12) -> 9398109.5 | F13: =SUM(F7:F12) -> 9398109.5

Sheet บริหารงานทั่วไป
A1: องค์การบริหารส่วนตำบลควนสตอ
A2: รายงานรายจ่ายในการดำเนินงานที่จ่ายจากเงินรายจ่ายตามแผนงาน บริหารงานทั่วไป
A3: ตั้งแต่วันที่ 1 ตุลาคม 2559 ถึง 29 กันยายน 2560
A5: งบ | B5: หมวด | C5: แหล่งเงิน | D5: ประมาณการ | E5: บริหารงานทั่วไป | F5: งานวางแผนสถิติและ | G5: บริหารงานคลัง | H5: รวม
F6: วิชาการ
A8: งบบุคลากร | B8: เงินเดือน(การเมือง) | C8: เงินงบประมาณ | D8: 2484720 | E8: 2484720 | H8: =E8+F8+G8 -> 2484720
B9: เงินเดือน(ประจำ) | C9: เงินงบประมาณ | D9: 4963000 | E9: 3071392 | G9: 1459980 | H9: =E9+F9+G9 -> 4531372
A10: งบดำเนินงาน | B10: ค่าตอบแทน | C10: เงินงบประมาณ | D10: 402800 | E10: 176502.5 | G10: 137330 | H10: =E10+F10+G10 -> 313832.5
B11: ค่าใช้สอย | C11: เงินงบประมาณ | D11: 1670000 | E11: 911542.36 | G11: 495621 | H11: =E11+F11+G11 -> 1407163.4
B12: ค่าวัสดุ | C12: เงินงบประมาณ | D12: 298000 | E12: 149976.38 | G12: 50371 | H12: =E12+F12+G12 -> 200347.38
B13: ค่าสาธารณูปโภค | C13: เงินงบประมาณ | D13: 314000 | E13: 229212.68 | H13: =E13+F13+G13 -> 229212.68
A14: งบลงทุน | B14: ค่าครุภัณฑ์ | C14: เงินงบประมาณ | D14: 65000 | E14: 50000 | H14: =E14+F14+G14 -> 50000
B15: ค่าที่ดินและสิ่งกิอสร้าง | C15: เงินงบประมาณ | D15: 0 | H15: =E15+F15+G15 -> 0
B16: ค่าที่ดินและสิ่งกิอสร้าง | C16: อุดหนุนระบุวัตถประสงค์ | D16: 0
A17: เงินอุดหนุน | B17: เงินอุดหนุน | C17: เงินงบประมาณ | D17: 20000 | E17: 20000 | H17: =E17+F17+G17 -> 20000
D18: =SUM(D8:D17) -> 10217520 | E18: =SUM(E8:E17) -> 7093345.9 | F18: =SUM(F8:F17) -> 0 | G18: =SUM(G8:G17) -> 2143302 | H18: =SUM(H8:H17) -> 9236647.9

Sheet รักษาความสงบ
A1: องค์การบริหารส่วนตำบลควนสตอ
A2: รายงานรายจ่ายในการดำเนินงานที่จ่ายจากเงินรายจ่ายตามแผนงาน รักษาความสงบ
A3: ตั้งแต่วันที่ 1 ตุลาคม 2558 ถึง 30 กันยายน 2559
A5: งบ | B5: หมวด | C5: แหล่งเงิน | D5: ประมาณการ | E5: บริหารงานทั่วไป | F5: งานเทศกิจ | G5: งานป้องกันฝ่ายพลเรือน | H5: รวม
E6: รักษาความสงบฯ | G6: และระงับอัคคีภัย
A8: งบบุคลากร | B8: เงินเดือน(การเมือง) | C8: เงินงบประมาณ | H8: =E8+F8+G8 -> 0
B9: เงินเดือน(ประจำ) | C9: เงินงบประมาณ | H9: =E9+F9+G9 -> 0
A10: งบดำเนินงาน | B10: ค่าตอบแทน | C10: เงินงบประมาณ | H10: =E10+F10+G10 -> 0
B11: ค่าใช้สอย | C11: เงินงบประมาณ | D11: 40000 | E11: 9158 | H11: =E11+F11+G11 -> 9158
B12: ค่าวัสดุ | C12: เงินงบประมาณ | H12: =E12+F12+G12 -> 0
B13: ค่าสาธารณูปโภค | C13: เงินงบประมาณ | H13: =E13+F13+G13 -> 0
A14: งบลงทุน | B14: ค่าครุภัณฑ์ | C14: เงินงบประมาณ | H14: =E14+F14+G14 -> 0
B15: ค่าที่ดินและสิ่งกิอสร้าง | C15: เงินงบประมาณ
A16: เงินอุดหนุน | B16: เงินอุดหนุน | C16: เงินงบประมาณ | H16: =E16+F16+G16 -> 0
D17: =SUM(D8:D16) -> 40000 | E17: =SUM(E8:E16) -> 9158 | F17: =SUM(F8:F16) -> 0 | G17: =SUM(G8:G16) -> 0 | H17: =E17+F17+G17 -> 9158

Sheet ศึกษา
A1: องค์การบริหารส่วนตำบลควนสตอ
A2: รายงานรายจ่ายในการดำเนินงานที่จ่ายจากเงินรายจ่ายตามแผนงาน การศึกษา
A3: ตั้งแต่วันที่ 1 ตุลาคม 2559 ถึง 29 กันยายน 2560
A5: งบ | B5: หมวด | C5: แหล่งเงิน | D5: ประมาณการ | E5: บริหารงานทั่วไป | F5: งานระดับก่อน | G5: งานระดับ | H5: งานศึกษา | I5: รวม
E6: การศึกษาฯ | F6: วัยเรียนฯ | G6: มัธยม | H6: ไม่กำหนดระดับ
A8: งบบุคลากร | B8: เงินเดือน(การเมือง) | C8: เงินงบประมาณ | D8: 4122160 | E8: 653280 | F8: 3245390 | I8: =E8+F8+G8+H8 -> 3898670
B9: เงินเดือน(ประจำ) | C9: เงินงบประมาณ | D9: 107000 | E9: 42000 | F9: 29178 | I9: =E9+F9+G9+H9 -> 71178
A10: งบดำเนินงาน | B10: ค่าตอบแทน | C10: เงินงบประมาณ | D10: 2250000 | E10: 375268 | F10: 1426800 | I10: =E10+F10+G10+H10 -> 1802068
B11: ค่าใช้สอย | C11: เงินงบประมาณ | D11: 1395000 | E11: 1236624.4 | H11: 36198 | I11: =E11+F11+G11+H11 -> 1272822.4
B12: ค่าวัสดุ | C12: เงินงบประมาณ | I12: =E12+F12+G12+H12 -> 0
B13: ค่าสาธารณูปโภค | C13: เงินงบประมาณ | I13: =E13+F13+G13+H13 -> 0
A14: งบลงทุน | B14: ค่าครุภัณฑ์ | C14: เงินงบประมาณ | D14: 6000 | E14: 6000 | I14: =E14+F14+G14+H14 -> 6000
B15: ค่าที่ดินและสิ่งกิอสร้าง | C15: เงินงบประมาณ | D15: 150000 | I15: =E15+F15+G15+H15 -> 0
A16: เงินอุดหนุน | B16: เงินอุดหนุน | C16: เงินงบประมาณ | D16: 1805000 | F16: 1802000 | I16: =E16+F16+G16+H16 -> 1802000
I17: =E17+F17+G17+H17 -> 0
D18: =SUM(D8:D17) -> 9835160 | E18: =SUM(E8:E17) -> 2313172.4 | F18: =SUM(F8:F17) -> 6503368 | G18: =SUM(G8:G17) -> 0 | H18: =SUM(H8:H17) -> 36198 | I18: =E18+F18+G18+H18 -> 8852738.4

Sheet สาธารณสุข
A1: องค์การบริหารส่วนตำบลควนสตอ
A2: รายงานรายจ่ายในการดำเนินงานที่จ่ายจากเงินรายจ่ายตามแผนงาน สาธารณสุข
A3: ตั้งแต่วันที่ 1 ตุลาคม 2559 ถึง 29 กันยายน 2560
A5: งบ | B5: หมวด | C5: แหล่งเงิน | D5: ประมาณการ | E5: บริหารงานทั่วไป | F5: งานโรงพยาบาล | G5: งานบริการ | H5: งานศูนย์บริการ | I5: รวม
E6: สาธารณสุขฯ | G6: สาธารณสุข | H6: สาธารณสุข
A8: งบบุคลากร | B8: เงินเดือน(การเมือง) | C8: เงินงบประมาณ | E8: 0 | F8: 0 | G8: 0 | H8: 0 | I8: =E8+F8+G8+H8 -> 0
B9: เงินเดือน(ประจำ) | C9: เงินงบประมาณ | D9: 594000 | E9: 587160 | H9: 0 | I9: =E9+F9+G9+H9 -> 587160
A10: งบดำเนินงาน | B10: ค่าตอบแทน | C10: เงินงบประมาณ | D10: 8000 | H10: 0 | I10: =E10+F10+G10+H10 -> 0
B11: ค่าใช้สอย | C11: เงินงบประมาณ | D11: 346500 | E11: 215360.91 | H11: 0 | I11: =E11+F11+G11+H11 -> 215360.91
B12: ค่าวัสดุ | C12: เงินงบประมาณ | D12: 220000 | E12: 161003.5 | H12: 0 | I12: =E12+F12+G12+H12 -> 161003.5
B13: ค่าสาธารณูปโภค | C13: เงินงบประมาณ | D13: 0 | H13: 0 | I13: =E13+F13+G13+H13 -> 0
A14: งบลงทุน | B14: ค่าครุภัณฑ์ | C14: เงินงบประมาณ | D14: 8400 | E14: 8400 | H14: 0 | I14: =E14+F14+G14+H14 -> 8400
B15: ค่าที่ดินและสิ่งกิอสร้าง | C15: เงินงบประมาณ | D15: 0
A16: เงินอุดหนุน | B16: เงินอุดหนุน | C16: เงินงบประมาณ | D16: 180000 | E16: 0 | F16: 30000 | H16: 0 | I16: =E16+F16+G16+H16 -> 30000
E18: =SUM(E8:E16) -> 971924.41 | F18: =SUM(F8:F16) -> 30000 | G18: =SUM(G8:G16) -> 0 | H18: =SUM(H8:H16) -> 0 | I18: =E18+F18+G18+H18 -> 1001924.4

Sheet สังคมสงเคราะห์
A1: องค์การบริหารส่วนตำบลควนสตอ
A2: รายงานรายจ่ายในการดำเนินงานที่จ่ายจากเงินรายจ่ายตามแผนงาน สังคมสงเคราะห์
A3: ตั้งแต่วันที่ 1 ตุลาคม 2559 ถึง 29 กันยายน 2560
A5: งบ | B5: หมวด | C5: แหล่งเงิน | D5: ประมาณการ | E5: บริหารงานทั่วไป | F5: งานสวัสดิการสังคม | G5: รวม
E6: สังคมสงเคราะห์ฯ | F6: และสังคมสงเคราะห์
A8: งบบุคลากร | B8: เงินเดือน(การเมือง) | C8: เงินงบประมาณ | F8: 0 | G8: =E8+F8 -> 0
B9: เงินเดือน(ประจำ) | C9: เงินงบประมาณ | D9: 620000 | E9: 610080 | F9: 0 | G9: =E9+F9 -> 610080
A10: งบดำเนินงาน | B10: ค่าตอบแทน | C10: เงินงบประมาณ | D10: 82000 | E10: 49510 | F10: 0 | G10: =E10+F10 -> 49510
B11: ค่าใช้สอย | C11: เงินงบประมาณ | D11: 130000 | E11: 87000 | F11: 0 | G11: =E11+F11 -> 87000
B12: ค่าใช้สอย | C12: เงินอุดหนุนเฉพาะกิจ | D12: 60000 | F12: 60000 | G12: =E12+F12 -> 60000
B13: ค่าวัสดุ | C13: เงินงบประมาณ | D13: 35000 | E13: 16750 | F13: 0 | G13: =E13+F13 -> 16750
B14: ค่าสาธารณูปโภค | C14: เงินงบประมาณ | D14: 0 | F14: 0 | G14: =E14+F14 -> 0
A15: งบลงทุน | B15: ค่าครุภัณฑ์ | C15: เงินงบประมาณ | D15: 0 | E15: 0 | F15: 0 | G15: =E15+F15 -> 0
B16: ค่าที่ดินและสิ่งกิอสร้าง | C16: เงินงบประมาณ | D16: 0
A17: เงินอุดหนุน | B17: เงินอุดหนุน | C17: เงินงบประมาณ | D17: 0 | F17: 0 | G17: =E17+F17 -> 0
D19: =SUM(D8:D18) -> 927000 | E19: =SUM(E8:E18) -> 763340 | F19: =SUM(F8:F18) -> 60000 | G19: =E19+F19 -> 823340

Sheet เคหะและชุมชน
A1: องค์การบริหารส่วนตำบลควนสตอ
A2: รายงานรายจ่ายในการดำเนินงานที่จ่ายจากเงินรายจ่ายตามแผนงาน เคหะและชุมชน
A3: ตั้งแต่วันที่ 1 ตุลาคม 2559 ถึง 29 กันยายน 2560
A5: งบ | B5: หมวด | C5: แหล่งเงิน | D5: ประมาณการ | E5: บริหารงานทั่วไป | F5: งานไฟฟ้าถนน | G5: งาน | H5: งานจำกัดขยะมูลฝอย | I5: งานบำบัด | J5: รวม
E6: เคหะและชมชน | G6: สวนสาธารณะ | H6: และสิ่งปฏิกูล | I6: น้ำเสีย
A8: งบบุคลากร | B8: เงินเดือน(การเมือง) | C8: เงินงบประมาณ | E8: 0 | F8: =SUM(E8) -> 0 | G8: =SUM(F8) -> 0 | H8: =SUM(G8) -> 0 | I8: =SUM(H8) -> 0 | J8: =SUM(E8:I8) -> 0
B9: เงินเดือน(ประจำ) | C9: เงินงบประมาณ | D9: 990120 | E9: 968100 | J9: =SUM(E9:I9) -> 968100
A10: งบดำเนินงาน | B10: ค่าตอบแทน | C10: เงินงบประมาณ | D10: 57000 | E10: 42000 | J10: =SUM(E10:I10) -> 42000
B11: ค่าใช้สอย | C11: เงินงบประมาณ | D11: 720000 | E11: 161860 | H11: 428033 | J11: =SUM(E11:I11) -> 589893
B12: ค่าวัสดุ | C12: เงินงบประมาณ | D12: 221200 | E12: 31900 | J12: =SUM(E12:I12) -> 31900
B13: ค่าสาธารณูปโภค | C13: เงินงบประมาณ | J13: =SUM(E13:I13) -> 0
A14: งบลงทุน | B14: ค่าครุภัณฑ์ | C14: เงินงบประมาณ | D14: 17100 | E14: 11100 | J14: =SUM(E14:I14) -> 11100
B15: ค่าที่ดินและสิ่งกิอสร้าง | C15: เงินงบประมาณ | D15: 9947112.3 | F15: 9785066.6 | J15: =SUM(E15:I15) -> 9785066.6
B16: ค่าที่ดินและสิ่งกิอสร้าง | C16: เงินอุดหนุนเฉพาะกิจ | D16: 2779000 | F16: 2779000 | J16: =SUM(E16:I16) -> 2779000
A17: เงินอุดหนุน | B17: เงินอุดหนุน | C17: เงินงบประมาณ | D17: 418387.73 | F17: 418387.73 | J17: =SUM(E17:I17) -> 418387.73
D19: =SUM(D8:D18) -> 15149920 | E19: =SUM(E8:E18) -> 1214960 | F19: =SUM(F8:F18) -> 12982454 | G19: =SUM(G8:G18) -> 0 | H19: =SUM(H8:H18) -> 428033 | I19: =SUM(I8:I18) -> 0 | J19: =SUM(E19:I19) -> 14625447

Sheet ศาสนาฯ
A1: องค์การบริหารส่วนตำบลควนสตอ
A2: รายงานรายจ่ายในการดำเนินงานที่จ่ายจากเงินรายจ่ายตามแผนงาน ศาสนา วัฒนธรรมและนันทนาการ
A3: ตั้งแต่วันที่ 1 ตุลาคม 2559 ถึง 29 กันยายน 2560
A5: งบ | B5: หมวด | C5: แหล่งเงิน | D5: ประมาณการ | E5: บริหารงานทั่วไป | F5: งานกีฬาและ | G5: งานศาสนาและ | H5: งานวิชาการและ | I5: รวม
E6: เกี่ยวกับศาสนาฯ | F6: นันทนาการ | G6: วัฒนธรรมท้อถิ่น | H6: ส่งเสริมการท่องเที่ยว
A8: งบบุคลากร | B8: เงินเดือน(การเมือง) | C8: เงินงบประมาณ | D8: 0 | E8: 0 | F8: 0 | G8: 0 | H8: 0 | I8: =E8+F8+G8+H8 -> 0
B9: เงินเดือน(ประจำ) | C9: เงินงบประมาณ | D9: 0 | E9: 0 | F9: 0 | G9: 0 | H9: 0 | I9: =E9+F9+G9+H9 -> 0
A10: งบดำเนินงาน | B10: ค่าตอบแทน | C10: เงินงบประมาณ | D10: 0 | E10: 0 | F10: 0 | G10: 0 | H10: 0 | I10: =E10+F10+G10+H10 -> 0
B11: ค่าใช้สอย | C11: เงินงบประมาณ | D11: 575000 | E11: 0 | F11: 500942 | G11: 0 | H11: 0 | I11: =E11+F11+G11+H11 -> 500942
B12: ค่าวัสดุ | C12: เงินงบประมาณ | D12: 0 | E12: 0 | F12: 0 | G12: 0 | H12: 0 | I12: =E12+F12+G12+H12 -> 0
B13: ค่าสาธารณูปโภค | C13: เงินงบประมาณ | D13: 0 | E13: 0 | F13: 0 | G13: 0 | H13: 0 | I13: =E13+F13+G13+H13 -> 0
A14: งบลงทุน | B14: ค่าครุภัณฑ์ | C14: เงินงบประมาณ | D14: 0 | E14: 0 | F14: 0 | G14: 0 | H14: 0 | I14: =E14+F14+G14+H14 -> 0
B15: ค่าที่ดินและสิ่งกิอสร้าง | C15: เงินงบประมาณ | D15: 0
A16: เงินอุดหนุน | B16: เงินอุดหนุน | C16: เงินงบประมาณ | D16: 194000 | E16: 0 | G16: 0 | H16: 0 | I16: =E16+F16+G16+H16 -> 0
D18: =SUM(D8:D17) -> 769000 | E18: =SUM(E8:E17) -> 0 | F18: =SUM(F8:F17) -> 500942 | G18: =SUM(G8:G17) -> 0 | H18: =SUM(H8:H17) -> 0 | I18: =E18+F18+G18+H18 -> 500942

Sheet สร้างความเข็มแข็ง
A1: องค์การบริหารส่วนตำบลควนสตอ
A2: รายงานรายจ่ายในการดำเนินงานที่จ่ายจากเงินรายจ่ายตามแผนงาน สร้างความเข็มแข็ง
A3: ตั้งแต่วันที่ 1 ตุลาคม 2558 ถึง 30 กันยายน 2559
A5: งบ | B5: หมวด | C5: แหล่งเงิน | D5: ประมาณการ | E5: บริหารงานทั่วไปเกี่ยวกับการสร้าง | F5: งานส่งเสริมและสนับสนน | G5: รวม
E6: ความเข็มแข็งของชมชน | F6: ความเข้มแข็งชมชน
A8: งบบุคลากร | B8: เงินเดือน(การเมือง) | C8: เงินงบประมาณ | E8: 0 | F8: 0 | G8: =E8+F8 -> 0
B9: เงินเดือน(ประจำ) | C9: เงินงบประมาณ | D9: 0 | E9: 0 | F9: 0 | G9: =E9+F9 -> 0
A10: งบดำเนินงาน | B10: ค่าตอบแทน | C10: เงินงบประมาณ | D10: 0 | E10: 0 | F10: 0 | G10: =E10+F10 -> 0
B11: ค่าใช้สอย | C11: เงินงบประมาณ | D11: 495000 | E11: 0 | F11: 234650 | G11: =E11+F11 -> 234650
B12: ค่าใช้สอย | C12: อุดหนุนระบุวัตถประสงค์ | D12: 12500 | F12: 12500
B13: ค่าวัสดุ | C13: เงินงบประมาณ | D13: 0 | E13: 0 | F13: 0 | G13: =E13+F13 -> 0
B14: ค่าสาธารณูปโภค | C14: เงินงบประมาณ | D14: 0 | E14: 0 | F14: 0 | G14: =E14+F14 -> 0
A15: งบลงทุน | B15: ค่าครุภัณฑ์ | C15: เงินงบประมาณ | D15: 0
B16: ค่าที่ดินและสิ่งกิอสร้าง | C16: เงินงบประมาณ | D16: 0
A17: เงินอุดหนุน | B17: เงินอุดหนุน | C17: เงินงบประมาณ | D17: 20000
D18: .
G19: =E19+F19 -> 0
D20: =SUM(D8:D19) -> 527500 | E20: =SUM(E8:E19) -> 0 | F20: =SUM(F8:F19) -> 247150 | G20: =E20+F20 -> 247150

Sheet เกษตร
A1: องค์การบริหารส่วนตำบลควนสตอ
A2: รายงานรายจ่ายในการดำเนินงานที่จ่ายจากเงินรายจ่ายตามแผนงาน การเกษตร
A3: ตั้งแต่วันที่ 1 ตุลาคม 2559 ถึง 29 กันยายน 2560
A5: งบ | B5: หมวด | C5: แหล่งเงิน | D5: ประมาณการ | E5: งานส่งเสริม | F5: งานอนุรักษ์แหล่งน้ำ | G5: รวม
E6: การเกษตร | F6: และป่าไม้
A8: งบบุคลากร | B8: เงินเดือน(การเมือง) | C8: เงินงบประมาณ | E8: 0 | F8: 0 | G8: =E8+F8 -> 0
B9: เงินเดือน(ประจำ) | C9: เงินงบประมาณ | E9: 0 | F9: 0 | G9: =E9+F9 -> 0
A10: งบดำเนินงาน | B10: ค่าตอบแทน | C10: เงินงบประมาณ | E10: 0 | F10: 0 | G10: =E10+F10 -> 0
B11: ค่าใช้สอย | C11: เงินงบประมาณ | D11: 200000 | E11: 133960 | F11: 0 | G11: =E11+F11 -> 133960
B12: ค่าวัสดุ | C12: เงินงบประมาณ | E12: 0 | F12: 0 | G12: =E12+F12 -> 0
B13: ค่าสาธารณูปโภค | C13: เงินงบประมาณ | E13: 0 | F13: 0 | G13: =E13+F13 -> 0
A14: งบลงทุน | B14: ค่าครุภัณฑ์ | C14: เงินงบประมาณ | E14: 0 | F14: 0 | G14: =E14+F14 -> 0
B15: ค่าที่ดินและสิ่งกิอสร้าง | C15: เงินงบประมาณ
A16: เงินอุดหนุน | B16: เงินอุดหนุน | C16: เงินงบประมาณ | E16: 0 | F16: 0 | G16: =E16+F16 -> 0
D18: =SUM(D8:D17) -> 200000 | E18: =SUM(E8:E17) -> 133960 | F18: =SUM(F8:F17) -> 0 | G18: =SUM(G8:G17) -> 133960

Sheet แผนงานรวม
A1: องค์การบริหารส่วนตำบลควนสตอ
A2: รายงานรายจ่ายในการดำเนินงานที่จ่ายจากเงินรายจ่ายตามแผนงานรวม
A3: ตั้งแต่วันที่ 1 ตุลาคม 2559 ถึง 30 กันยายน 2560
A5: งบ | B5: หมวด | C5: แหล่งเงิน | D5: บริหารงาน | E5: การรักษา | F5: การศึกษา | G5: สาธารณสุข | H5: สังคม | I5: เคหะและ | J5: สร้างความ | K5: ศาสนา | L5: การเกษตร | M5: งบกลาง | N5: รวม
D6: ทั่วไป | E6: ความสงบ | H6: สงเคราะห์ | I6: ชมชน | J6: เข็มแข็งชุมชน | K6: วัฒนธรรมฯ
A8: งบบุคลากร | B8: เงินเดือน(การเมือง) | C8: เงินงบประมาณ | D8: 2484720 | N8: =SUM(D8:M8) -> 2484720
B9: เงินเดือน(ประจำ) | C9: เงินงบประมาณ | D9: 4531372 | F9: 3898670 | G9: 587160 | H9: 610080 | I9: 968100 | N9: =SUM(D9:M9) -> 10595382
A10: งบดำเนินงาน | B10: ค่าตอบแทน | C10: เงินงบประมาณ | D10: 313832.5 | F10: 71178 | H10: 49510 | I10: 42000 | N10: =SUM(D10:M10) -> 476520.5
B11: ค่าใช้สอย | C11: เงินงบประมาณ | D11: 1407163.4 | E11: 9158 | F11: 1838266 | G11: 215360.91 | H11: 87000 | I11: 589893 | J11: 234650 | K11: 500942 | L11: 133960 | N11: =SUM(D11:M11) -> 5016393.3
B12: ค่าใช้สอย | C12: อุดหนุนระบุวัตถประสงค์ | H12: 60000 | J12: 12500 | N12: =SUM(D12:M12) -> 72500
B13: ค่าวัสดุ | C13: เงินงบประมาณ | D13: 200347.38 | F13: 1236624.4 | G13: 161003.5 | H13: 16750 | I13: 31900 | N13: =SUM(D13:M13) -> 1646625.3 | P13: =46411481.22-3421684.69 -> 42989797
B14: ค่าสาธารณูปโภค | C14: เงินงบประมาณ | D14: 229212.68 | N14: =SUM(D14:M14) -> 229212.68 | P14: =SUM(P13:P13) -> 42989797
A15: งบลงทุน | B15: ค่าครุภัณฑ์ (หมายเหตุ 1) | C15: เงินงบประมาณ | D15: 50000 | F15: 6000 | G15: 8400 | I15: 11100 | N15: =SUM(D15:M15) -> 75500
B16: ค่าที่ดินและสิ่งกิอสร้าง (หมายเหตุ 3) | C16: เงินงบประมาณ | I16: 9785066.6 | N16: =SUM(D16:M16) -> 9785066.6
B17: ค่าที่ดินและสิ่งกิอสร้าง (หมายเหตุ 4) | C17: อุดหนุนระบุวัตถประสงค์ | I17: 2779000 | N17: =SUM(D17:M17) -> 2779000
A18: เงินอุดหนุน | B18: เงินอุดหนุน | C18: เงินงบประมาณ | D18: 20000 | F18: 1802000 | G18: 30000 | I18: 418387.73 | N18: =SUM(D18:M18) -> 2270387.7
A19: งบกลาง | B19: งบกลาง | C19: เงินงบประมาณ | M19: 9398109.5 | N19: =SUM(D19:M19) -> 9398109.5
N21: =SUM(D21:M21) -> 0
D22: =SUM(D8:D21) -> 9236647.9 | E22: =SUM(E8:E21) -> 9158 | F22: =SUM(F8:F21) -> 8852738.4 | G22: =SUM(G8:G21) -> 1001924.4 | H22: =SUM(H8:H21) -> 823340 | I22: =SUM(I8:I21) -> 14625447 | J22: =SUM(J8:J21) -> 247150 | K22: =SUM(K8:K21) -> 500942 | ... N22: =SUM(N8:N21) -> 44829418

Sheet จ่ายจากเงินสะสม
A1: องค์การบริหารส่วนตำบลควนสตอ
A2: รายงานรายจ่ายในการดำเนินงานที่จ่ายจากเงินรายจ่ายจากเงินสะสม
A3: ตั้งแต่วันที่ 1 ตุลาคม 2559 ถึง 30 กันยายน 2560
A5: งบ | B5: หมวด | C5: แหล่งเงิน | D5: บริหารงาน | E5: การรักษา | F5: การศึกษา | G5: สาธารณสุข | H5: สังคมสงเคราะ | I5: เคหะและ | J5: สร้างความ | K5: ศาสนา | L5: อตรสาหกรรม | M5: การเกษตร | N5: การพาณิชน์ | O5: งบกลาง | P5: รวม
D6: ทั่วไป | E6: ความสงบ | I6: ชมชน | J6: เข็มแข็งชุมชน | K6: วัฒนธรรมฯ | L6: และการโยธา
A8: งบบุคลากร | B8: เงินเดือน(การเมือง) | C8: เงินงบประมาณ | P8: =SUM(D8:O8) -> 0
B9: เงินเดือน(ประจำ) | C9: เงินงบประมาณ | P9: =SUM(D9:O9) -> 0
B10: เงินเดือน(ประจำ) | C10: อุดหนุนระบุวัตถประสงค์ | P10: =SUM(D10:O10) -> 0
A11: งบดำเนินงาน | B11: ค่าตอบแทน | C11: เงินงบประมาณ | P11: =SUM(D11:O11) -> 0
B12: ค่าตอบแทน | C12: อุดหนุนระบุวัตถประสงค์ | P12: =SUM(D12:O12) -> 0
B13: ค่าใช้สอย | C13: เงินงบประมาณ | P13: =SUM(D13:O13) -> 0
B14: ค่าใช้สอย | C14: อุดหนุนระบุวัตถประสงค์ | P14: =SUM(D14:O14) -> 0
B15: ค่าวัสดุ | C15: เงินงบประมาณ | P15: =SUM(D15:O15) -> 0
B16: ค่าวัสดุ | C16: อุดหนุนระบุวัตถประสงค์ | P16: =SUM(D16:O16) -> 0
B17: ค่าสาธารณูปโภค | C17: เงินงบประมาณ | P17: =SUM(D17:O17) -> 0
A18: งบลงทุน | B18: ค่าครุภัณฑ์ | C18: เงินงบประมาณ | P18: =SUM(D18:O18) -> 0
B19: ค่าครุภัณฑ์ | C19: อุดหนุนระบุวัตถประสงค์ | P19: =SUM(D19:O19) -> 0
B20: ค่าที่ดินและสิ่งกิอสร้าง | C20: เงินงบประมาณ | P20: =SUM(D20:O20) -> 0
B21: ค่าที่ดินและสิ่งกิอสร้าง | C21: อุดหนุนระบุวัตถประสงค์ | P21: =SUM(D21:O21) -> 0
A22: เงินอุดหนุน | B22: เงินอุดหนุน | C22: เงินงบประมาณ | P22: =SUM(D22:O22) -> 0
B23: เงินอุดหนุน | C23: อุดหนุนระบุวัตถประสงค์ | P23: =SUM(D23:O23) -> 0
A24: งบกลาง | B24: งบกลาง | C24: เงินงบประมาณ | P24: =SUM(D24:O24) -> 0
B25: งบกลาง | C25: อุดหนุนระบุวัตถประสงค์ | P25: =SUM(D25:O25) -> 0
P26: =SUM(D26:O26) -> 0
D27: =SUM(D8:D26) -> 0 | E27: =SUM(E8:E26) -> 0 | F27: =SUM(F8:F26) -> 0 | G27: =SUM(G8:G26) -> 0 | H27: =SUM(H8:H26) -> 0 | I27: =SUM(I8:I26) -> 0 | J27: =SUM(J8:J26) -> 0 | K27: =SUM(K8:K26) -> 0 | ... P27: =SUM(P8:P26) -> 0

Sheet จ่ายจากเงินสำรองเงินสะสม 
A1: องค์การบริหารส่วนตำบลควนสตอ
A2: รายงานรายจ่ายในการดำเนินงานที่จ่ายจากเงินรายจ่ายจากเงินสำรองเงินสะสม
A3: ตั้งแต่วันที่ 1 ตุลาคม 2557 ถึง 30 กันยายน 2558
A5: งบ | B5: หมวด | C5: แหล่งเงิน | D5: บริหารงาน | E5: การรักษา | F5: การศึกษา | G5: สาธารณสุข | H5: สังคมสงเคราะ | I5: เคหะและ | J5: สร้างความ | K5: ศาสนา | L5: อตรสาหกรรม | M5: การเกษตร | N5: การพาณิชน์ | O5: งบกลาง | P5: รวม
D6: ทั่วไป | E6: ความสงบ | I6: ชมชน | J6: เข็มแข็งชุมชน | K6: วัฒนธรรมฯ | L6: และการโยธา
A8: งบบุคลากร | B8: เงินเดือน(การเมือง) | C8: เงินงบประมาณ | P8: =SUM(D8:O8) -> 0
B9: เงินเดือน(ประจำ) | C9: เงินงบประมาณ | P9: =SUM(D9:O9) -> 0
B10: เงินเดือน(ประจำ) | C10: อุดหนุนระบุวัตถประสงค์ | P10: =SUM(D10:O10) -> 0
A11: งบดำเนินงาน | B11: ค่าตอบแทน | C11: เงินงบประมาณ | P11: =SUM(D11:O11) -> 0
B12: ค่าตอบแทน | C12: อุดหนุนระบุวัตถประสงค์ | P12: =SUM(D12:O12) -> 0
B13: ค่าใช้สอย | C13: เงินงบประมาณ | P13: =SUM(D13:O13) -> 0
B14: ค่าใช้สอย | C14: อุดหนุนระบุวัตถประสงค์ | P14: =SUM(D14:O14) -> 0
B15: ค่าวัสดุ | C15: เงินงบประมาณ | P15: =SUM(D15:O15) -> 0
B16: ค่าวัสดุ | C16: อุดหนุนระบุวัตถประสงค์ | P16: =SUM(D16:O16) -> 0
B17: ค่าสาธารณูปโภค | C17: เงินงบประมาณ | P17: =SUM(D17:O17) -> 0
A18: งบลงทุน | B18: ค่าครุภัณฑ์ | C18: เงินงบประมาณ | P18: =SUM(D18:O18) -> 0
B19: ค่าครุภัณฑ์ | C19: อุดหนุนระบุวัตถประสงค์ | P19: =SUM(D19:O19) -> 0
B20: ค่าที่ดินและสิ่งกิอสร้าง | C20: เงินงบประมาณ | P20: =SUM(D20:O20) -> 0
B21: ค่าที่ดินและสิ่งกิอสร้าง | C21: อุดหนุนระบุวัตถประสงค์ | P21: =SUM(D21:O21) -> 0
A22: เงินอุดหนุน | B22: เงินอุดหนุน | C22: เงินงบประมาณ | P22: =SUM(D22:O22) -> 0
B23: เงินอุดหนุน | C23: อุดหนุนระบุวัตถประสงค์ | P23: =SUM(D23:O23) -> 0
A24: งบกลาง | B24: งบกลาง | C24: เงินงบประมาณ | P24: =SUM(D24:O24) -> 0
B25: งบกลาง | C25: อุดหนุนระบุวัตถประสงค์ | P25: =SUM(D25:O25) -> 0
P26: =SUM(D26:O26) -> 0
D27: =SUM(D8:D26) -> 0 | E27: =SUM(E8:E26) -> 0 | F27: =SUM(F8:F26) -> 0 | G27: =SUM(G8:G26) -> 0 | H27: =SUM(H8:H26) -> 0 | I27: =SUM(I8:I26) -> 0 | J27: =SUM(J8:J26) -> 0 | K27: =SUM(K8:K26) -> 0 | ... P27: =SUM(P8:P26) -> 0

Sheet ผลการดำเนินงานจากรายรับ
A1: องค์การบริหารส่วนตำบลควนสตอ
A2: งบแสดงผงการดำเนินงานจ่ายจากเงินรายรับ
A3: ตั้งแต่วันที่ 1 ตุลาคม 2559 ถึง 29 กันยายน 2560
A4: รารยการ | B4: ประมาณการ | C4: รวม | D4: บริหารงาน | E4: การรักษา | F4: การศึกษา | G4: สาธารณสุข | H4: สังคมสงเคราะ | I4: เคหะและ | J4: สร้างความ | K4: ศาสนา | L4: การเกษตร | M4: งบกลาง
D5: ทั่วไป | E5: ความสงบ | I5: ชมชน | J5: เข็มแข็งชุมชน | K5: วัฒนธรรมฯ
A6: รายจ่าย
A7: เงินเดือน(การเมือง) | B7: 2484720 | C7: =D7+E7+F7+G7+H7+I7+J7+K7+L7+M7 -> 2484720 | D7: 2484720
A8: เงินเดือน(ประจำ) | B8: 11289280 | C8: =D8+E8+F8+G8+H8+I8+J8+K8+L8+M8 -> 10595382 | D8: 4531372 | F8: 3898670 | G8: 587160 | H8: 610080 | I8: 968100
A9: ค่าตอบแทน | B9: 656800 | C9: =D9+E9+F9+G9+H9+I9+J9+K9+L9+M9 -> 476520.5 | D9: 313832.5 | F9: 71178 | H9: 49510 | I9: 42000
A10: ค่าใช้สอย | B10: 6426500 | C10: =D10+E10+F10+G10+H10+I10+J10+K10+L10+M10 -> 5016393.3 | D10: 1407163.4 | E10: 9158 | F10: 1838266 | G10: 215360.91 | H10: 87000 | I10: 589893 | J10: 234650 | K10: 500942 | L10: 133960
A11: ค่าใช้สอย | C11: =D11+E11+F11+G11+H11+I11+J11+K11+L11+M11 -> 72500 | H11: 60000 | J11: 12500
A12: ค่าวัสดุ | B12: 2169200 | C12: =D12+E12+F12+G12+H12+I12+J12+K12+L12+M12 -> 1646625.3 | D12: 200347.38 | F12: 1236624.4 | G12: 161003.5 | H12: 16750 | I12: 31900
A13: ค่าสาธารณูปโภค | B13: 314000 | C13: =D13+E13+F13+G13+H13+I13+J13+K13+L13+M13 -> 229212.68 | D13: 229212.68
A14: ค่าครุภัณฑ์ (หมายเหตุ 1) | B14: 96500 | C14: =D14+E14+F14+G14+H14+I14+J14+K14+L14+M14 -> 75500 | D14: 50000 | F14: 6000 | G14: 8400 | I14: 11100
A15: ค่าที่ดินและสิ่งกิอสร้าง (หมายเหตุ 2) | B15: 10097112 | C15: =D15+E15+F15+G15+H15+I15+J15+K15+L15+M15 -> 9785066.6 | I15: 9785066.6
A16: ค่าที่ดินและสิ่งกิอสร้าง (หมายเหตุ 3) | C16: =D16+E16+F16+G16+H16+I16+J16+K16+L16+M16 -> 2779000 | I16: 2779000
A17: เงินอุดหนุน | B17: 2637387.7 | C17: =D17+E17+F17+G17+H17+I17+J17+K17+L17+M17 -> 2270387.7 | D17: 20000 | F17: 1802000 | G17: 30000 | I17: 418387.73
A18: งบกลาง | B18: 10948500 | C18: =D18+E18+F18+G18+H18+I18+J18+K18+L18+M18 -> 9398109.5 | M18: 9398109.5
A19: รวมรายจ่าย | B19: =SUM(B7:B18) -> 47120000 | C19: =SUM(C7:C18) -> 44829418 | D19: =SUM(D7:D18) -> 9236647.9 | E19: =SUM(E7:E18) -> 9158 | F19: =SUM(F7:F18) -> 8852738.4 | G19: =SUM(G7:G18) -> 1001924.4 | H19: =SUM(H7:H18) -> 823340 | I19: =SUM(I7:I18) -> 14625447 | ... M19: =SUM(M7:M18) -> 9398109.5
A20: รายรับ
A21: หมวดภาษีอากร | B21: 245120 | C21: 176698.93
A22: หมวดค่า ธรรมเนียมค่าปรับและใบอนญาต | B22: 404550 | C22: 214150
A23: หมวดรายจากทรัพย์สิน | B23: 133000 | C23: 220107.36
A24: หมวดรายได้เบ็ดเตล็ด | B24: 10000 | C24: 4689.2
A25: หมวดรายได้จากทุน | B25: 1000 | C25: 1513
A26: หมวดภาษีจัดสรร | B26: 16206330 | C26: 17801352
A27: หมวดเงินอุดหนุนทั่วไป | B27: 30120000 | C27: 25910938
A28: หมวดเงินอุดหนุนระบุวัตถุประสงค์/เฉพาะกิจ(หมายเหตุ 4) | C28: 2851500
A29: รวมรายรับ | B29: =SUM(B21:B28) -> 47120000 | C29: =SUM(C21:C28) -> 47180948
C30: =C29-C19 -> 2351530.6
C43: 1

Sheet หมายเหตุประกอบงบแสดงผลฯ
A1: หมายเหตุ ประกอบงบแสดงผลการดำเนินงาน
E2: หมายเหตุ 1
A3: ค่าครุภัณฑ์ (จ่ายจากเงินรายรับ)
A4: 1.ครุภัณฑ์สำนักงาน
B5: 1.1 | C5: เครื่องถ่ายเอกสาร ชาร์ป AR-6120 ระบบมัลติฟังชั่น | E5: 50000 | F5: บาท
B6: 1.2 | C6: เก้าอี้ทำงานพนักพิงต่ำ บุนวม ขาอลูมิเนียม 4 ตัว | E6: 11200
B7: 1.3 | C7: โต๊ะขาพับอนกประสงค์ ขนาด 15X75X73 ซม. | E7: 6000 | F7: บาท | H7: =2800*4 -> 11200
F8: บาท
D9: รวม | E9: =SUM(E5:E8) -> 67200 | F9: บาท
A10: 2.ครุภัณฑ์คอมพิวเตอร์
B11: 2.1 | C11: เครื่องพิมพ์ Canon รุ่น ix6770 แบบฉีดหมึก ขนาด A3 | E11: 8300 | F11: บาท
D15: รวม | E15: =SUM(E11:E13) -> 8300 | F15: บาท
D26: รวมทั้งสิ้น | E26: =E9+E15 -> 75500 | F26: บาท
A36: หมายเหตุ ประกอบงบแสดงผลการดำเนินงาน
A37: ค่าที่ดินและสิ่งก่อสร้าง (จ่ายจากเงินรายรับ) | F37: หมายเหตุ 2
F38: บาท
B39: 1.1 | C39: โครงการก่อสร้างอาคารที่ทำการ อบต.ควนสตอ (ระยะที่ 3) | E39: 4929770.5
B40: 1.2 | C40: โครงการปรับปรุงสนามกีฬากลางอำเภอควนโดน หมู่ที่ 4 ตำบลควนสตอ | E40: 199000
B41: 1.3 | C41: โครงการบุกเบิกถนนสายเหนือเขานุ้ย หมู่ที่ 4 | E41: 298000
B42: 1.4 | C42: โครงการบุกเบิกถนนสายวังกระบือ หมู่ที่ 5 | E42: 299000
B43: 1.5 | C43: โครงการก่อสร้างถนนคอนกรีตเสริมเหล็กสายศูนย์พัฒนาเด็กเล็ก ม.2 | E43: 178000
B44: 1.6 | C44: โครงการก่อสร้างถนนคอนกรีตเสริมเหล็กสายซอยมณีหยัน หมู่ที่ 8 | E44: 464000
B45: 1.7 | C45: โครงกาก่อสร้างถนนคอนกรีตเสริมเหล็กสายซอยบ้านมูอีด หมู่ที่ 10 | E45: 506000
B46: 1.8 | C46: โครงการก่อสร้างถนนคอนกรีตเสริมเหล็กสายซอยประเสริฐ หมู่ที่ 7 | E46: 213500
B47: 1.9 | C47: โครงการก่อสร้างถนนคอนกรีตเสริมเหล็กสายซอยราษฎร์อุทิศ 4(บ่อดิน) | E47: 365500 | H47: 9785066.6
B48: 1.10 | C48: โครงการก่อสร้างถนนคอนกรีตเสริมเหล็กสายถ้ำลาหอย หมู่ที่ 6 | E48: 489796 | H48: -8887566.6
B49: 1.11 | C49: โครงการก่อสร้างถนนคอนกรีตเสริมเหล็กสายบ้านกลาง-ฃลประทาน หมู่ที่ 9 | E49: 944000
B50: 1.12 | C50: โครงการบุกเบิกถนนสายดาสันอุทิศ 1 หมู่ที่ 3 | E50: 299500
B51: 1.13 | C51: โครงการบุกเบิกถนนสายตาดีกา-ท่าพรุ หมู่ที่ 2 | E51: 299400
B52: 1.14 | C52: โครงการบุกเบิกถนนสายทุ่งออก หมู่ที่ 1 | E52: 299600
E53: =SUM(E50:E52) -> 898500
E56: =SUM(E39:E52) -> 9785066.6
H57: 441563
H58: 1177500
H59: 1471875
A70: หมายเหตุ ประกอบงบแสดงผลการดำเนินงาน
F71: หมายเหตุ 3 | H71: 834062
A72: ค่าที่ดินและสิ่งก่อสร้าง (จ่ายจากเงินอุดหนุนเฉพาะกิจ) | F72: บาท | H72: =SUM(H57:H71) -> 3925000
B73: 1.1 | C73: โครงการปรับปรุงสนามกีฬากลางอำเภอควนโดน หมู่ที่ 4 ตำบลควนสตอ | E73: 2000000
B74: 1.2 | C74: โครงการปรับปรุงก่อสร้างถนนพาราแอสผัลติกท์คอนกรีตถนนสาย
C75: วังตาหงา หมู่ที่ 5 บ้านทางงอ | E75: 779000
H76: =E79+E56 -> 12564067
H77: =ผลการดำเนินงานจากรายรับ!C15+ผลการดำเนินงานจากรายรับ!C16 -> 12564067
E79: =SUM(E73:E78) -> 2779000
D87: รวมทั้งสิ้น | E87: =E79+E85 -> 2779000
A104: หมายเหตุ ประกอบงบแสดงผลการดำเนินงาน
E105: หมายเหตุ 4
A107: รับเงินอุดหนุนระบุวัตถุประสงค์/อุดหนุนเฉพาะกิจ
C108: เงินอุดหนุนจากกรมส่งเสริมการปกครองส่วนท้องถิ่น | E108: 779000 | F108: บาท
C109: เงินอุดหนุนจากสำนักงานพัฒนาสังคมจังหวัดสตูล | E109: 12500
C110: เงินอุดหนุนจากองค์การบริหารส่วนจังหวัดสตูล | E110: 2000000
C111: เงินอุดหนุนจากกองทุนฟื้นฟูสมรรถภาพจังหวัดสตูล | E111: 60000
D113: รวม | E113: =SUM(E108:E111) -> 2851500 | F113: บาท | H113: 245600
H114: 88900
H115: 7000
H116: 11620
H117: =SUM(H113:H116) -> 353120

Sheet โอนงบประมาณ
A1: องค์การบริหารส่วนตำบลควนสตอ
A2: โอนงบประมาณ
A3: ตั้งแต่วันที่ 1 ตุลาคม 2559 ถึง 29 กันยายน 2560
A5: งบ | B5: หมวด | C5: แหล่งเงิน | D5: บริหารงาน | E5: การรักษา | F5: การศึกษา | G5: สาธารณสุข | H5: สังคมสงเคราะ | I5: เคหะและ | J5: สร้างความ | K5: ศาสนา | L5: การเกษตร | M5: งบกลาง | N5: รวม
D6: ทั่วไป | E6: ความสงบ | I6: ชมชน | J6: เข็มแข็งชุมชน | K6: วัฒนธรรมฯ
A8: งบบุคลากร | B8: เงินเดือน(การเมือง) | C8: เงินงบประมาณ | D8: =2484720 -> 2484720 | N8: =SUM(D8:M8) -> 2484720
B9: เงินเดือน(ประจำ) | C9: เงินงบประมาณ | D9: =4973000-10000 -> 4963000 | F9: =4202160-80000 -> 4122160 | G9: =594000 -> 594000 | H9: =630000-10000 -> 620000 | I9: =986320+3800 -> 990120 | N9: =SUM(D9:M9) -> 11289280
A10: งบดำเนินงาน | B10: ค่าตอบแทน | C10: เงินงบประมาณ | D10: =422800+2000-22000 -> 402800 | F10: =107000 -> 107000 | G10: =8000 -> 8000 | H10: =82000 -> 82000 | I10: =57000 -> 57000 | N10: =SUM(D10:M10) -> 656800 | O10: =N10-656800 -> 0
B11: ค่าใช้สอย | C11: เงินงบประมาณ | D11: =1676000-20000+14000 -> 1670000 | E11: =50000-10000 -> 40000 | F11: =2195000+55000 -> 2250000 | G11: =350000-3500 -> 346500 | H11: =130000 -> 130000 | I11: =670000+50000 -> 720000 | J11: =375000+120000 -> 495000 | K11: =575000 -> 575000 | L11: =60000+140000 -> 200000 | N11: =SUM(D11:M11) -> 6426500
B12: ค่าวัสดุ | C12: เงินงบประมาณ | D12: =305000-12000+5000 -> 298000 | F12: =1395000 -> 1395000 | G12: =220000 -> 220000 | H12: =35000 -> 35000 | I12: =275000-53800 -> 221200 | N12: =SUM(D12:M12) -> 2169200
B13: ค่าสาธารณูปโภค | C13: เงินงบประมาณ | D13: =314000 -> 314000 | N13: =SUM(D13:M13) -> 314000
A14: งบลงทุน | B14: ค่าครุภัณฑ์ | C14: เงินงบประมาณ | D14: =65000 -> 65000 | F14: =6000 -> 6000 | G14: =8400 -> 8400 | I14: =17100 -> 17100 | N14: =SUM(D14:M14) -> 96500
B15: ค่าที่ดินและสิ่งกิอสร้าง | C15: เงินงบประมาณ | F15: =150000 -> 150000 | I15: =10365500-418387.73 -> 9947112.3 | N15: =SUM(D15:M15) -> 10097112 | O15: =N15-10097112.27 -> 0
A16: เงินอุดหนุน | B16: เงินอุดหนุน | C16: เงินงบประมาณ | D16: =20000 -> 20000 | F16: =1780000+25000 -> 1805000 | G16: =180000 -> 180000 | I16: 418387.73 | J16: =20000 -> 20000 | K16: =274000-80000 -> 194000 | N16: =SUM(D16:M16) -> 2637387.7 | O16: =N16-2637387.73 -> 0
A17: งบกลาง | B17: งบกลาง | C17: เงินงบประมาณ | M17: =11062000-113500 -> 10948500 | N17: =SUM(D17:M17) -> 10948500
N18: =SUM(D18:M18) -> 0
D21: =SUM(D8:D20) -> 10217520 | E21: =SUM(E8:E20) -> 40000 | F21: =SUM(F8:F20) -> 9835160 | G21: =SUM(G8:G20) -> 1356900 | H21: =SUM(H8:H20) -> 867000 | I21: =SUM(I8:I20) -> 12370920 | J21: =SUM(J8:J20) -> 515000 | K21: =SUM(K8:K20) -> 769000 | ... N21: =SUM(N8:N20) -> 47120000

Sheet Sheet25
